BEGIN:VCALENDAR
VERSION:2.0
PRODID:-//West London Chambers - ECPv5.8.1//NONSGML v1.0//EN
CALSCALE:GREGORIAN
METHOD:PUBLISH
X-WR-CALNAME:West London Chambers
X-ORIGINAL-URL:https://westlondonchambers.org.uk
X-WR-CALDESC:Events for West London Chambers
BEGIN:VTIMEZONE
TZID:Europe/London
BEGIN:DAYLIGHT
TZOFFSETFROM:+0000
TZOFFSETTO:+0100
TZNAME:BST
DTSTART:20230326T010000
END:DAYLIGHT
BEGIN:STANDARD
TZOFFSETFROM:+0100
TZOFFSETTO:+0000
TZNAME:GMT
DTSTART:20231029T010000
END:STANDARD
END:VTIMEZONE
BEGIN:VEVENT
DTSTART;TZID=Europe/London:20231010T083000
DTEND;TZID=Europe/London:20231010T103000
DTSTAMP:20260425T022536
CREATED:20230719T084753Z
LAST-MODIFIED:20230922T145635Z
UID:4303-1696926600-1696933800@westlondonchambers.org.uk
SUMMARY:Women in Business
DESCRIPTION:Click here to book
URL:https://westlondonchambers.org.uk/event/women-in-business/
END:VEVENT
END:VCALENDAR