BEGIN:VCALENDAR
VERSION:2.0
PRODID:-//West London Chambers - ECPv5.8.1//NONSGML v1.0//EN
CALSCALE:GREGORIAN
METHOD:PUBLISH
X-WR-CALNAME:West London Chambers
X-ORIGINAL-URL:https://westlondonchambers.org.uk
X-WR-CALDESC:Events for West London Chambers
BEGIN:VTIMEZONE
TZID:Europe/London
BEGIN:DAYLIGHT
TZOFFSETFROM:+0000
TZOFFSETTO:+0100
TZNAME:BST
DTSTART:20230326T010000
END:DAYLIGHT
BEGIN:STANDARD
TZOFFSETFROM:+0100
TZOFFSETTO:+0000
TZNAME:GMT
DTSTART:20231029T010000
END:STANDARD
END:VTIMEZONE
BEGIN:VEVENT
DTSTART;TZID=Europe/London:20231018T023000
DTEND;TZID=Europe/London:20231018T180000
DTSTAMP:20260425T022535
CREATED:20230913T144717Z
LAST-MODIFIED:20230922T125207Z
UID:4358-1697596200-1697652000@westlondonchambers.org.uk
SUMMARY:Making Trade Sustainable: Case Study New Zealand
DESCRIPTION:Come and hear from our expert speakers as they share their insights and innovative solutions\, and the positive impact sustainable trade can have on the economy and environment. Click here to book
URL:https://westlondonchambers.org.uk/event/making-trade-sustainable-case-study-new-zealand/
LOCATION:Spring Grove House\, West Thames College\, London Road\, Isleworth\, TW7 4HS
END:VEVENT
END:VCALENDAR