BEGIN:VCALENDAR
VERSION:2.0
PRODID:-//West London Chambers - ECPv5.8.1//NONSGML v1.0//EN
CALSCALE:GREGORIAN
METHOD:PUBLISH
X-WR-CALNAME:West London Chambers
X-ORIGINAL-URL:https://westlondonchambers.org.uk
X-WR-CALDESC:Events for West London Chambers
BEGIN:VTIMEZONE
TZID:Europe/London
BEGIN:DAYLIGHT
TZOFFSETFROM:+0000
TZOFFSETTO:+0100
TZNAME:BST
DTSTART:20230326T010000
END:DAYLIGHT
BEGIN:STANDARD
TZOFFSETFROM:+0100
TZOFFSETTO:+0000
TZNAME:GMT
DTSTART:20231029T010000
END:STANDARD
END:VTIMEZONE
BEGIN:VEVENT
DTSTART;TZID=Europe/London:20231121T100000
DTEND;TZID=Europe/London:20231121T113000
DTSTAMP:20260425T022536
CREATED:20231107T161956Z
LAST-MODIFIED:20231107T161959Z
UID:4457-1700560800-1700566200@westlondonchambers.org.uk
SUMMARY:Masterclass New Markets - Import/Export
DESCRIPTION:This event is part of Hounslow Business First which is running from October 2023 to March 2024. It is run by Hounslow Council\, CPG\, Smarter Society and West London Chambers of Commerce\, all collaborating to support local businesses\, and fuel the local economy. Book Here.
URL:https://westlondonchambers.org.uk/event/masterclass-new-markets-import-export/
END:VEVENT
END:VCALENDAR