BEGIN:VCALENDAR
VERSION:2.0
PRODID:-//West London Chambers - ECPv5.8.1//NONSGML v1.0//EN
CALSCALE:GREGORIAN
METHOD:PUBLISH
X-WR-CALNAME:West London Chambers
X-ORIGINAL-URL:https://westlondonchambers.org.uk
X-WR-CALDESC:Events for West London Chambers
BEGIN:VTIMEZONE
TZID:Europe/London
BEGIN:DAYLIGHT
TZOFFSETFROM:+0000
TZOFFSETTO:+0100
TZNAME:BST
DTSTART:20240331T010000
END:DAYLIGHT
BEGIN:STANDARD
TZOFFSETFROM:+0100
TZOFFSETTO:+0000
TZNAME:GMT
DTSTART:20241027T010000
END:STANDARD
END:VTIMEZONE
BEGIN:VEVENT
DTSTART;TZID=Europe/London:20240116T083000
DTEND;TZID=Europe/London:20240116T103000
DTSTAMP:20260424T220546
CREATED:20231107T151243Z
LAST-MODIFIED:20231107T151246Z
UID:4464-1705393800-1705401000@westlondonchambers.org.uk
SUMMARY:White City Business Breakfast
DESCRIPTION:Join us for a lively morning of networking and light breakfast at Venture X\, White City on January 16\, 2023\, at 8:30am! Book Here.
URL:https://westlondonchambers.org.uk/event/white-city-business-breakfast-2/
LOCATION:White City\, Venture X\, 1 Ariel Way\, White City\, London\, W12 7SL\, United Kingdom
END:VEVENT
END:VCALENDAR