BEGIN:VCALENDAR
VERSION:2.0
PRODID:-//West London Chambers - ECPv5.8.1//NONSGML v1.0//EN
CALSCALE:GREGORIAN
METHOD:PUBLISH
X-WR-CALNAME:West London Chambers
X-ORIGINAL-URL:https://westlondonchambers.org.uk
X-WR-CALDESC:Events for West London Chambers
BEGIN:VTIMEZONE
TZID:Europe/London
BEGIN:DAYLIGHT
TZOFFSETFROM:+0000
TZOFFSETTO:+0100
TZNAME:BST
DTSTART:20240331T010000
END:DAYLIGHT
BEGIN:STANDARD
TZOFFSETFROM:+0100
TZOFFSETTO:+0000
TZNAME:GMT
DTSTART:20241027T010000
END:STANDARD
END:VTIMEZONE
BEGIN:VEVENT
DTSTART;TZID=Europe/London:20240229T170000
DTEND;TZID=Europe/London:20240229T193000
DTSTAMP:20260424T191404
CREATED:20231108T161702Z
LAST-MODIFIED:20231108T161748Z
UID:4486-1709226000-1709235000@westlondonchambers.org.uk
SUMMARY:Quiz Night at Venture X Chiswick Park
DESCRIPTION:Get ready to celebrate the leap year with a brain-teasing Quiz Night and pizza with a choice of wine and beer! Book here
URL:https://westlondonchambers.org.uk/event/quiz-night-at-venture-x-chiswick-park/
LOCATION:Venture X\, Chiswick Park Building 7\, 566 Chiswick Park Road\, London\, W4 5YG\, United Kingdom
END:VEVENT
END:VCALENDAR