BEGIN:VCALENDAR
VERSION:2.0
PRODID:-//West London Chambers - ECPv5.8.1//NONSGML v1.0//EN
CALSCALE:GREGORIAN
METHOD:PUBLISH
X-WR-CALNAME:West London Chambers
X-ORIGINAL-URL:https://westlondonchambers.org.uk
X-WR-CALDESC:Events for West London Chambers
BEGIN:VTIMEZONE
TZID:Europe/London
BEGIN:DAYLIGHT
TZOFFSETFROM:+0000
TZOFFSETTO:+0100
TZNAME:BST
DTSTART:20240331T010000
END:DAYLIGHT
BEGIN:STANDARD
TZOFFSETFROM:+0100
TZOFFSETTO:+0000
TZNAME:GMT
DTSTART:20241027T010000
END:STANDARD
END:VTIMEZONE
BEGIN:VEVENT
DTSTART;TZID=Europe/London:20240315T083000
DTEND;TZID=Europe/London:20240315T103000
DTSTAMP:20260424T191455
CREATED:20240110T105541Z
LAST-MODIFIED:20250722T090345Z
UID:4586-1710491400-1710498600@westlondonchambers.org.uk
SUMMARY:Acton BID Business Breakfast
DESCRIPTION:Book Now
URL:https://westlondonchambers.org.uk/event/acton-bid-business-breakfast-9/
END:VEVENT
END:VCALENDAR