BEGIN:VCALENDAR
VERSION:2.0
PRODID:-//West London Chambers - ECPv5.8.1//NONSGML v1.0//EN
CALSCALE:GREGORIAN
METHOD:PUBLISH
X-WR-CALNAME:West London Chambers
X-ORIGINAL-URL:https://westlondonchambers.org.uk
X-WR-CALDESC:Events for West London Chambers
BEGIN:VTIMEZONE
TZID:Europe/London
BEGIN:DAYLIGHT
TZOFFSETFROM:+0000
TZOFFSETTO:+0100
TZNAME:BST
DTSTART:20240331T010000
END:DAYLIGHT
BEGIN:STANDARD
TZOFFSETFROM:+0100
TZOFFSETTO:+0000
TZNAME:GMT
DTSTART:20241027T010000
END:STANDARD
END:VTIMEZONE
BEGIN:VEVENT
DTSTART;TZID=Europe/London:20240509T020000
DTEND;TZID=Europe/London:20240509T040000
DTSTAMP:20260424T150103
CREATED:20240416T160309Z
LAST-MODIFIED:20240430T104911Z
UID:4792-1715220000-1715227200@westlondonchambers.org.uk
SUMMARY:KBE Trade Mission
DESCRIPTION:Book Here
URL:https://westlondonchambers.org.uk/event/kbe-trade-mission/
CATEGORIES:International Trade
END:VEVENT
END:VCALENDAR