BEGIN:VCALENDAR
VERSION:2.0
PRODID:-//West London Chambers - ECPv5.8.1//NONSGML v1.0//EN
CALSCALE:GREGORIAN
METHOD:PUBLISH
X-WR-CALNAME:West London Chambers
X-ORIGINAL-URL:https://westlondonchambers.org.uk
X-WR-CALDESC:Events for West London Chambers
BEGIN:VTIMEZONE
TZID:Europe/London
BEGIN:DAYLIGHT
TZOFFSETFROM:+0000
TZOFFSETTO:+0100
TZNAME:BST
DTSTART:20240331T010000
END:DAYLIGHT
BEGIN:STANDARD
TZOFFSETFROM:+0100
TZOFFSETTO:+0000
TZNAME:GMT
DTSTART:20241027T010000
END:STANDARD
END:VTIMEZONE
BEGIN:VEVENT
DTSTART;TZID=Europe/London:20240619T083000
DTEND;TZID=Europe/London:20240619T103000
DTSTAMP:20260424T132941
CREATED:20240130T171644Z
LAST-MODIFIED:20240517T084915Z
UID:4647-1718785800-1718793000@westlondonchambers.org.uk
SUMMARY:Women in Business Breakfast
DESCRIPTION:Book Here
URL:https://westlondonchambers.org.uk/event/women-in-business-breakfast-4/
LOCATION:Chiswick House\, Burlington Lane\, Chiswick\, W4 2RP
CATEGORIES:Business Breakfast
END:VEVENT
END:VCALENDAR