BEGIN:VCALENDAR
VERSION:2.0
PRODID:-//West London Chambers - ECPv5.8.1//NONSGML v1.0//EN
CALSCALE:GREGORIAN
METHOD:PUBLISH
X-WR-CALNAME:West London Chambers
X-ORIGINAL-URL:https://westlondonchambers.org.uk
X-WR-CALDESC:Events for West London Chambers
BEGIN:VTIMEZONE
TZID:Europe/London
BEGIN:DAYLIGHT
TZOFFSETFROM:+0000
TZOFFSETTO:+0100
TZNAME:BST
DTSTART:20240331T010000
END:DAYLIGHT
BEGIN:STANDARD
TZOFFSETFROM:+0100
TZOFFSETTO:+0000
TZNAME:GMT
DTSTART:20241027T010000
END:STANDARD
END:VTIMEZONE
BEGIN:VEVENT
DTSTART;TZID=Europe/London:20240724T083000
DTEND;TZID=Europe/London:20240724T223000
DTSTAMP:20260424T132958
CREATED:20240611T134840Z
LAST-MODIFIED:20240723T094105Z
UID:4849-1721809800-1721860200@westlondonchambers.org.uk
SUMMARY:Hammersmith Business Breakfast
DESCRIPTION:Book Here
URL:https://westlondonchambers.org.uk/event/hammersmith-business-breakfast/
LOCATION:Sams Riverside\, 1 Crisp Walk\, London\, W6 9DN\, United Kingdom
END:VEVENT
END:VCALENDAR