BEGIN:VCALENDAR
VERSION:2.0
PRODID:-//West London Chambers - ECPv5.8.1//NONSGML v1.0//EN
CALSCALE:GREGORIAN
METHOD:PUBLISH
X-WR-CALNAME:West London Chambers
X-ORIGINAL-URL:https://westlondonchambers.org.uk
X-WR-CALDESC:Events for West London Chambers
BEGIN:VTIMEZONE
TZID:Europe/London
BEGIN:DAYLIGHT
TZOFFSETFROM:+0000
TZOFFSETTO:+0100
TZNAME:BST
DTSTART:20240331T010000
END:DAYLIGHT
BEGIN:STANDARD
TZOFFSETFROM:+0100
TZOFFSETTO:+0000
TZNAME:GMT
DTSTART:20241027T010000
END:STANDARD
END:VTIMEZONE
BEGIN:VEVENT
DTSTART;TZID=Europe/London:20241121T183000
DTEND;TZID=Europe/London:20241121T233000
DTSTAMP:20260424T091544
CREATED:20240604T155215Z
LAST-MODIFIED:20241118T124118Z
UID:4831-1732213800-1732231800@westlondonchambers.org.uk
SUMMARY:Business Awards 2024
DESCRIPTION:The Business Awards are now here\, so if you are interested\, please email:  \n\n\n\nGerryHolden@westlondonchambers.org.uk \n\n\n\n\nBook Here\n\n\n\n\nThe Business Awards Black Tie Gala Dinner includes a three course meal and a pre dinner drinks reception. At this event\, we will be announcing all of our fantastic winners\, so this could be your ‘Oscar’ moment! This year marks ten years of the Business Awards; eleven years of celebrating your wonderful businesses in the community. \n\n\n\n \n\n\n\nFor anyone wanting to book a full table (10 places) please send an email to: \n\n\n\nGerryHolden@westlondonchambers.org.uk \n\n\n\n\nBook Here
URL:https://westlondonchambers.org.uk/event/business-awards-2024/
LOCATION:Brentford Football club – Gtech Community Stadium\, Lionel Road South\, Brentford\, TW8 0RU
CATEGORIES:Flagship Event
ATTACH;FMTTYPE=image/png:https://westlondonchambers.org.uk/wp-content/uploads/2024/05/business-awards-2024-1.png
END:VEVENT
END:VCALENDAR