BEGIN:VCALENDAR
VERSION:2.0
PRODID:-//West London Chambers - ECPv5.8.1//NONSGML v1.0//EN
CALSCALE:GREGORIAN
METHOD:PUBLISH
X-WR-CALNAME:West London Chambers
X-ORIGINAL-URL:https://westlondonchambers.org.uk
X-WR-CALDESC:Events for West London Chambers
BEGIN:VTIMEZONE
TZID:Europe/London
BEGIN:DAYLIGHT
TZOFFSETFROM:+0000
TZOFFSETTO:+0100
TZNAME:BST
DTSTART:20250330T010000
END:DAYLIGHT
BEGIN:STANDARD
TZOFFSETFROM:+0100
TZOFFSETTO:+0000
TZNAME:GMT
DTSTART:20251026T010000
END:STANDARD
END:VTIMEZONE
BEGIN:VEVENT
DTSTART;TZID=Europe/London:20250131T100000
DTEND;TZID=Europe/London:20250131T110000
DTSTAMP:20260423T155105
CREATED:20250117T125555Z
LAST-MODIFIED:20250117T125601Z
UID:5387-1738317600-1738321200@westlondonchambers.org.uk
SUMMARY:Finance for SMEs Webinar
DESCRIPTION:Book here
URL:https://westlondonchambers.org.uk/event/finance-for-smes-webinar/
CATEGORIES:Webinar
END:VEVENT
END:VCALENDAR