BEGIN:VCALENDAR
VERSION:2.0
PRODID:-//West London Chambers - ECPv5.8.1//NONSGML v1.0//EN
CALSCALE:GREGORIAN
METHOD:PUBLISH
X-WR-CALNAME:West London Chambers
X-ORIGINAL-URL:https://westlondonchambers.org.uk
X-WR-CALDESC:Events for West London Chambers
BEGIN:VTIMEZONE
TZID:Europe/London
BEGIN:DAYLIGHT
TZOFFSETFROM:+0000
TZOFFSETTO:+0100
TZNAME:BST
DTSTART:20250330T010000
END:DAYLIGHT
BEGIN:STANDARD
TZOFFSETFROM:+0100
TZOFFSETTO:+0000
TZNAME:GMT
DTSTART:20251026T010000
END:STANDARD
END:VTIMEZONE
BEGIN:VEVENT
DTSTART;TZID=Europe/London:20250307T080000
DTEND;TZID=Europe/London:20250307T160000
DTSTAMP:20260423T174241
CREATED:20241210T162939Z
LAST-MODIFIED:20241210T162947Z
UID:5361-1741334400-1741363200@westlondonchambers.org.uk
SUMMARY:West London Festival of Business 2025
DESCRIPTION:We are back with the West London Festival of Business 2025!The West London Festival of Business is your opportunity to shine\, giving you the chance to showcase and promote your business to our diverse business community. \n\n\n\nDate: 7th March 2025Time: Breakfast – 8:00am – 9:15am\, Exhibition: 9:30am – 4:00pmVenue: Holiday Inn\, Brentford Lock\, Commerce Road\, Brentford\, TW8 8GAEarly-bird tickets are available now until 1st January 2025\, please click here to secure your spot. \n\n\n\n\n\n\n\nWe will be hosting a VIP business breakfast before the start of the Festival\, where you can network with stakeholders and partners. Keynote speakers to be announced. \n\n\n\n\nBook Here\n\n\n\n\nEntry is free for visitors\, you just need to register. \n\n\n\n\nRegister here\n\n\n\n\n\n\n\n\nEarly-bird tickets are available now until 1st January 2025\, please click here to secure your spot.
URL:https://westlondonchambers.org.uk/event/west-london-festival-of-business-2025/
LOCATION:Holiday Inn London – Brentford Lock\, Commerce Rd\, London\, England\, TW8 8GA
CATEGORIES:Flagship Event
END:VEVENT
END:VCALENDAR