BEGIN:VCALENDAR
VERSION:2.0
PRODID:-//West London Chambers - ECPv5.8.1//NONSGML v1.0//EN
CALSCALE:GREGORIAN
METHOD:PUBLISH
X-WR-CALNAME:West London Chambers
X-ORIGINAL-URL:https://westlondonchambers.org.uk
X-WR-CALDESC:Events for West London Chambers
BEGIN:VTIMEZONE
TZID:Europe/London
BEGIN:DAYLIGHT
TZOFFSETFROM:+0000
TZOFFSETTO:+0100
TZNAME:BST
DTSTART:20250330T010000
END:DAYLIGHT
BEGIN:STANDARD
TZOFFSETFROM:+0100
TZOFFSETTO:+0000
TZNAME:GMT
DTSTART:20251026T010000
END:STANDARD
END:VTIMEZONE
BEGIN:VEVENT
DTSTART;TZID=Europe/London:20250723T130000
DTEND;TZID=Europe/London:20250723T140000
DTSTAMP:20260424T031052
CREATED:20250722T110024Z
LAST-MODIFIED:20250722T110027Z
UID:5571-1753275600-1753279200@westlondonchambers.org.uk
SUMMARY:Atlanta\, Georgia Outbound Trade Mission Briefing
DESCRIPTION:Register here
URL:https://westlondonchambers.org.uk/event/atlanta-georgia-outbound-trade-mission-briefing/
CATEGORIES:International Trade
END:VEVENT
END:VCALENDAR