BEGIN:VCALENDAR
VERSION:2.0
PRODID:-//West London Chambers - ECPv5.8.1//NONSGML v1.0//EN
CALSCALE:GREGORIAN
METHOD:PUBLISH
X-WR-CALNAME:West London Chambers
X-ORIGINAL-URL:https://westlondonchambers.org.uk
X-WR-CALDESC:Events for West London Chambers
BEGIN:VTIMEZONE
TZID:Europe/London
BEGIN:DAYLIGHT
TZOFFSETFROM:+0000
TZOFFSETTO:+0100
TZNAME:BST
DTSTART:20250330T010000
END:DAYLIGHT
BEGIN:STANDARD
TZOFFSETFROM:+0100
TZOFFSETTO:+0000
TZNAME:GMT
DTSTART:20251026T010000
END:STANDARD
END:VTIMEZONE
BEGIN:VEVENT
DTSTART;TZID=Europe/London:20250910T100000
DTEND;TZID=Europe/London:20250914T160000
DTSTAMP:20260424T013855
CREATED:20250722T110906Z
LAST-MODIFIED:20250722T110910Z
UID:5580-1757498400-1757865600@westlondonchambers.org.uk
SUMMARY:Outbound Trade Mission Ljubljana\, Slovenia
DESCRIPTION:To register your interest and for more information\, please contact: \n\n\n\nAlan Rides: alanrides@westlondonchambers.org.uk \n\n\n\nSally Smith: sallysmith@westlondonchambers.org.uk
URL:https://westlondonchambers.org.uk/event/outbound-trade-mission-ljubljana-slovenia/
CATEGORIES:Trade Mission
END:VEVENT
BEGIN:VEVENT
DTSTART;TZID=Europe/London:20250912T083000
DTEND;TZID=Europe/London:20250912T103000
DTSTAMP:20260424T013855
CREATED:20250722T111128Z
LAST-MODIFIED:20250722T111134Z
UID:5583-1757665800-1757673000@westlondonchambers.org.uk
SUMMARY:Acton BID Business Breakfast
DESCRIPTION:Book here
URL:https://westlondonchambers.org.uk/event/acton-bid-business-breakfast-22/
CATEGORIES:Business Breakfast
END:VEVENT
END:VCALENDAR