BEGIN:VCALENDAR
VERSION:2.0
PRODID:-//West London Chambers - ECPv5.8.1//NONSGML v1.0//EN
CALSCALE:GREGORIAN
METHOD:PUBLISH
X-WR-CALNAME:West London Chambers
X-ORIGINAL-URL:https://westlondonchambers.org.uk
X-WR-CALDESC:Events for West London Chambers
BEGIN:VTIMEZONE
TZID:Europe/London
BEGIN:DAYLIGHT
TZOFFSETFROM:+0000
TZOFFSETTO:+0100
TZNAME:BST
DTSTART:20250330T010000
END:DAYLIGHT
BEGIN:STANDARD
TZOFFSETFROM:+0100
TZOFFSETTO:+0000
TZNAME:GMT
DTSTART:20251026T010000
END:STANDARD
END:VTIMEZONE
BEGIN:VEVENT
DTSTART;TZID=Europe/London:20250918T083000
DTEND;TZID=Europe/London:20250918T103000
DTSTAMP:20260424T013855
CREATED:20250722T111507Z
LAST-MODIFIED:20250909T131833Z
UID:5586-1758184200-1758191400@westlondonchambers.org.uk
SUMMARY:Women in Business Breakfast
DESCRIPTION:Book here
URL:https://westlondonchambers.org.uk/event/women-in-business-breakfast-11/
CATEGORIES:Business Breakfast
END:VEVENT
BEGIN:VEVENT
DTSTART;TZID=Europe/London:20250918T183000
DTEND;TZID=Europe/London:20250918T210000
DTSTAMP:20260424T013855
CREATED:20250909T132041Z
LAST-MODIFIED:20250909T132940Z
UID:5627-1758220200-1758229200@westlondonchambers.org.uk
SUMMARY:Unlock Your Business Exit Potential
DESCRIPTION:Book here
URL:https://westlondonchambers.org.uk/event/unlock-your-business-exit-potential/
END:VEVENT
END:VCALENDAR