BEGIN:VCALENDAR
VERSION:2.0
PRODID:-//West London Chambers - ECPv5.8.1//NONSGML v1.0//EN
CALSCALE:GREGORIAN
METHOD:PUBLISH
X-WR-CALNAME:West London Chambers
X-ORIGINAL-URL:https://westlondonchambers.org.uk
X-WR-CALDESC:Events for West London Chambers
BEGIN:VTIMEZONE
TZID:Europe/London
BEGIN:DAYLIGHT
TZOFFSETFROM:+0000
TZOFFSETTO:+0100
TZNAME:BST
DTSTART:20250330T010000
END:DAYLIGHT
BEGIN:STANDARD
TZOFFSETFROM:+0100
TZOFFSETTO:+0000
TZNAME:GMT
DTSTART:20251026T010000
END:STANDARD
END:VTIMEZONE
BEGIN:VEVENT
DTSTART;TZID=Europe/London:20250923T090000
DTEND;TZID=Europe/London:20250923T150000
DTSTAMP:20260424T013855
CREATED:20250915T095041Z
LAST-MODIFIED:20250915T095049Z
UID:5649-1758618000-1758639600@westlondonchambers.org.uk
SUMMARY:Libya-UK Business Conference
DESCRIPTION:Book Here\n\n\n\n\nNetwork with Libya’s Business Leaders in London \n\n\n\nLocation: The Royal Over-Seas League\, Six Park Place\, London SW1A 1LR \n\n\n\nJoin us for a half-day conference designed to connect UK companies and associations with Libyan private sector decision-makers actively seeking business partnerships and commercial opportunities. \n\n\n\nMajor Libyan Banks: \n\n\n\n\nAl-Seraj Islamic Bank (pioneering Shariah-compliant institution)\n\n\n\nBank of Commerce and Development (established 1996\, strong market presence)\n\n\n\nUnity Bank (95 branches nationwide\, 561 million LYD paid-up capital)\n\n\n\n\nThree Major Holding Companies: \n\n\n\n\nAlfa Holding Group (established 2006\, subsidiaries in Tunisia\, Egypt\, UAE)\n\n\n\nEmaarLibya Holding (reconstruction and infrastructure development focus)\n\n\n\nAl-Watan Holding (500 million LYD capital\, logistics and trade hub positioning)\n\n\n\n\nKey Sector Representatives: \n\n\n\n\nLAICO (Libya’s sovereign wealth fund subsidiary\, 20 African countries)\n\n\n\nLibyana (leading telecommunications\, operating since 2004)\n\n\n\nAlWkala AlDoulia Shipping/WDS (Swari Group maritime logistics arm)\n\n\n\nAl-Oqaid Medical Laboratory (leading Benghazi diagnostic facility)\n\n\n\nExpert Group (15+ years air conditioning\, Daikin partnership)\n\n\n\nASSARH Engineering (established 2001\, consulting and project management)\n\n\n\nAl-Zohour International Food (European product imports to Libya/Africa)\n\n\n\n\nAdditional Sectors: \n\n\n\n\nMetal industries serving oil and gas\n\n\n\nEvent management and exhibition services\n\n\n\nBuilding materials and construction chemicals\n\n\n\nManufacturing (sponge/mattress production since 1999)\n\n\n\n\nThese executives have direct authority to establish partnerships\, correspondent banking relationships\, and investment agreements during the conference. \n\n\n\nConference Opportunity: This provides direct access to business owners\, managing directors\, and senior executives with authority to sign contracts\, approve partnerships\, and commit resources. Many attendees have existing UK supply relationships and seek to expand their British business connections\, offering immediate commercial results and long-term partnerships.
URL:https://westlondonchambers.org.uk/event/libya-uk-business-conference/
CATEGORIES:International Trade
END:VEVENT
END:VCALENDAR