BEGIN:VCALENDAR
VERSION:2.0
PRODID:-//West London Chambers - ECPv5.8.1//NONSGML v1.0//EN
CALSCALE:GREGORIAN
METHOD:PUBLISH
X-WR-CALNAME:West London Chambers
X-ORIGINAL-URL:https://westlondonchambers.org.uk
X-WR-CALDESC:Events for West London Chambers
BEGIN:VTIMEZONE
TZID:Europe/London
BEGIN:DAYLIGHT
TZOFFSETFROM:+0000
TZOFFSETTO:+0100
TZNAME:BST
DTSTART:20250330T010000
END:DAYLIGHT
BEGIN:STANDARD
TZOFFSETFROM:+0100
TZOFFSETTO:+0000
TZNAME:GMT
DTSTART:20251026T010000
END:STANDARD
END:VTIMEZONE
BEGIN:VEVENT
DTSTART;TZID=Europe/London:20250924T100000
DTEND;TZID=Europe/London:20250924T130000
DTSTAMP:20260424T013856
CREATED:20250915T093635Z
LAST-MODIFIED:20250915T093641Z
UID:5646-1758708000-1758718800@westlondonchambers.org.uk
SUMMARY:Internationalisation Workshop: From Local to Global at UWL
DESCRIPTION:Book Here
URL:https://westlondonchambers.org.uk/event/internationalisation-workshop-from-local-to-global-at-uwl/
CATEGORIES:International Trade
END:VEVENT
BEGIN:VEVENT
DTSTART;TZID=Europe/London:20250924T183000
DTEND;TZID=Europe/London:20250924T210000
DTSTAMP:20260424T013856
CREATED:20250722T111611Z
LAST-MODIFIED:20250909T132409Z
UID:5588-1758738600-1758747600@westlondonchambers.org.uk
SUMMARY:September Evening Drinks
DESCRIPTION:Book Here
URL:https://westlondonchambers.org.uk/event/september-evening-drinks/
END:VEVENT
END:VCALENDAR