BEGIN:VCALENDAR
VERSION:2.0
PRODID:-//West London Chambers - ECPv5.8.1//NONSGML v1.0//EN
CALSCALE:GREGORIAN
METHOD:PUBLISH
X-WR-CALNAME:West London Chambers
X-ORIGINAL-URL:https://westlondonchambers.org.uk
X-WR-CALDESC:Events for West London Chambers
BEGIN:VTIMEZONE
TZID:Europe/London
BEGIN:DAYLIGHT
TZOFFSETFROM:+0000
TZOFFSETTO:+0100
TZNAME:BST
DTSTART:20250330T010000
END:DAYLIGHT
BEGIN:STANDARD
TZOFFSETFROM:+0100
TZOFFSETTO:+0000
TZNAME:GMT
DTSTART:20251026T010000
END:STANDARD
END:VTIMEZONE
BEGIN:VEVENT
DTSTART;TZID=Europe/London:20251022T093000
DTEND;TZID=Europe/London:20251022T113000
DTSTAMP:20260423T235753
CREATED:20251008T132850Z
LAST-MODIFIED:20251008T132900Z
UID:5688-1761125400-1761132600@westlondonchambers.org.uk
SUMMARY:Women in Business Breakfast
DESCRIPTION:Book here
URL:https://westlondonchambers.org.uk/event/women-in-business-breakfast-12/
CATEGORIES:Business Breakfast
END:VEVENT
BEGIN:VEVENT
DTSTART;TZID=Europe/London:20251022T140000
DTEND;TZID=Europe/London:20251022T160000
DTSTAMP:20260423T235753
CREATED:20251008T133258Z
LAST-MODIFIED:20251008T133305Z
UID:5691-1761141600-1761148800@westlondonchambers.org.uk
SUMMARY:China Harbin Province Trade Reception
DESCRIPTION:More details TBC
URL:https://westlondonchambers.org.uk/event/china-harbin-province-trade-reception/
CATEGORIES:International Trade
END:VEVENT
BEGIN:VEVENT
DTSTART;TZID=Europe/London:20251022T180000
DTEND;TZID=Europe/London:20251022T210000
DTSTAMP:20260423T235753
CREATED:20250909T132831Z
LAST-MODIFIED:20250909T132849Z
UID:5636-1761156000-1761166800@westlondonchambers.org.uk
SUMMARY:A Spooktacular Quiz Night
DESCRIPTION:Book Here
URL:https://westlondonchambers.org.uk/event/a-spooktacular-quiz-night/
END:VEVENT
END:VCALENDAR