BEGIN:VCALENDAR
VERSION:2.0
PRODID:-//West London Chambers - ECPv5.8.1//NONSGML v1.0//EN
CALSCALE:GREGORIAN
METHOD:PUBLISH
X-WR-CALNAME:West London Chambers
X-ORIGINAL-URL:https://westlondonchambers.org.uk
X-WR-CALDESC:Events for West London Chambers
BEGIN:VTIMEZONE
TZID:Europe/London
BEGIN:DAYLIGHT
TZOFFSETFROM:+0000
TZOFFSETTO:+0100
TZNAME:BST
DTSTART:20250330T010000
END:DAYLIGHT
BEGIN:STANDARD
TZOFFSETFROM:+0100
TZOFFSETTO:+0000
TZNAME:GMT
DTSTART:20251026T010000
END:STANDARD
END:VTIMEZONE
BEGIN:VEVENT
DTSTART;TZID=Europe/London:20251114T123000
DTEND;TZID=Europe/London:20251114T160000
DTSTAMP:20260423T224105
CREATED:20251008T133413Z
LAST-MODIFIED:20251106T101611Z
UID:5693-1763123400-1763136000@westlondonchambers.org.uk
SUMMARY:Libya–UK Trade & Investment Reception
DESCRIPTION:Book Here
URL:https://westlondonchambers.org.uk/event/libyauk-trade-investment-reception/
CATEGORIES:International Trade
END:VEVENT
END:VCALENDAR