BEGIN:VCALENDAR
VERSION:2.0
PRODID:-//West London Chambers - ECPv5.8.1//NONSGML v1.0//EN
CALSCALE:GREGORIAN
METHOD:PUBLISH
X-WR-CALNAME:West London Chambers
X-ORIGINAL-URL:https://westlondonchambers.org.uk
X-WR-CALDESC:Events for West London Chambers
BEGIN:VTIMEZONE
TZID:Europe/London
BEGIN:DAYLIGHT
TZOFFSETFROM:+0000
TZOFFSETTO:+0100
TZNAME:BST
DTSTART:20250330T010000
END:DAYLIGHT
BEGIN:STANDARD
TZOFFSETFROM:+0100
TZOFFSETTO:+0000
TZNAME:GMT
DTSTART:20251026T010000
END:STANDARD
END:VTIMEZONE
BEGIN:VEVENT
DTSTART;TZID=Europe/London:20251216T183000
DTEND;TZID=Europe/London:20251216T210000
DTSTAMP:20260423T191841
CREATED:20251212T170835Z
LAST-MODIFIED:20251212T170841Z
UID:6139-1765909800-1765918800@westlondonchambers.org.uk
SUMMARY:Women in Business Christmas Jolly
DESCRIPTION:Book Here
URL:https://westlondonchambers.org.uk/event/women-in-business-christmas-jolly-2/
END:VEVENT
END:VCALENDAR