BEGIN:VCALENDAR
VERSION:2.0
PRODID:-//West London Chambers - ECPv5.8.1//NONSGML v1.0//EN
CALSCALE:GREGORIAN
METHOD:PUBLISH
X-WR-CALNAME:West London Chambers
X-ORIGINAL-URL:https://westlondonchambers.org.uk
X-WR-CALDESC:Events for West London Chambers
BEGIN:VTIMEZONE
TZID:Europe/London
BEGIN:DAYLIGHT
TZOFFSETFROM:+0000
TZOFFSETTO:+0100
TZNAME:BST
DTSTART:20260329T010000
END:DAYLIGHT
BEGIN:STANDARD
TZOFFSETFROM:+0100
TZOFFSETTO:+0000
TZNAME:GMT
DTSTART:20261025T010000
END:STANDARD
END:VTIMEZONE
BEGIN:VEVENT
DTSTART;TZID=Europe/London:20260217T093000
DTEND;TZID=Europe/London:20260217T113000
DTSTAMP:20260423T154944
CREATED:20251212T171413Z
LAST-MODIFIED:20260119T100039Z
UID:6145-1771320600-1771327800@westlondonchambers.org.uk
SUMMARY:Hounslow Business First
DESCRIPTION:Book Here
URL:https://westlondonchambers.org.uk/event/hounslow-business-first-2/
END:VEVENT
END:VCALENDAR