BEGIN:VCALENDAR
VERSION:2.0
PRODID:-//West London Chambers - ECPv5.8.1//NONSGML v1.0//EN
CALSCALE:GREGORIAN
METHOD:PUBLISH
X-WR-CALNAME:West London Chambers
X-ORIGINAL-URL:https://westlondonchambers.org.uk
X-WR-CALDESC:Events for West London Chambers
BEGIN:VTIMEZONE
TZID:Europe/London
BEGIN:DAYLIGHT
TZOFFSETFROM:+0000
TZOFFSETTO:+0100
TZNAME:BST
DTSTART:20260329T010000
END:DAYLIGHT
BEGIN:STANDARD
TZOFFSETFROM:+0100
TZOFFSETTO:+0000
TZNAME:GMT
DTSTART:20261025T010000
END:STANDARD
END:VTIMEZONE
BEGIN:VEVENT
DTSTART;TZID=Europe/London:20260424T083000
DTEND;TZID=Europe/London:20260424T103000
DTSTAMP:20260423T124957
CREATED:20251212T130712Z
LAST-MODIFIED:20251212T130718Z
UID:6128-1777019400-1777026600@westlondonchambers.org.uk
SUMMARY:Acton BID Business Breakfast
DESCRIPTION:More details TBC
URL:https://westlondonchambers.org.uk/event/acton-bid-business-breakfast-25/
CATEGORIES:Business Breakfast
END:VEVENT
BEGIN:VEVENT
DTSTART;TZID=Europe/London:20260427T100000
DTEND;TZID=Europe/London:20260430T160000
DTSTAMP:20260423T124957
CREATED:20260224T113323Z
LAST-MODIFIED:20260224T113330Z
UID:6194-1777284000-1777564800@westlondonchambers.org.uk
SUMMARY:Trade Mission to Türkiye
DESCRIPTION:Interested? Register your interest early to secure your place on this high-impact trade mission. Contact: samarwhitticombe@westlondonchambers.org.uk
URL:https://westlondonchambers.org.uk/event/trade-mission-to-turkiye/
CATEGORIES:Trade Mission
END:VEVENT
BEGIN:VEVENT
DTSTART;TZID=Europe/London:20260522T083000
DTEND;TZID=Europe/London:20260522T103000
DTSTAMP:20260423T124957
CREATED:20251212T130756Z
LAST-MODIFIED:20251212T130803Z
UID:6130-1779438600-1779445800@westlondonchambers.org.uk
SUMMARY:Acton BID Business Breakfast
DESCRIPTION:More details TBC
URL:https://westlondonchambers.org.uk/event/acton-bid-business-breakfast-26/
CATEGORIES:Business Breakfast
END:VEVENT
BEGIN:VEVENT
DTSTART;TZID=Europe/London:20260604T120000
DTEND;TZID=Europe/London:20260604T223000
DTSTAMP:20260423T124957
CREATED:20251211T171605Z
LAST-MODIFIED:20260312T142637Z
UID:6113-1780574400-1780612200@westlondonchambers.org.uk
SUMMARY:Charity Golf Day 2026
DESCRIPTION:Book Here
URL:https://westlondonchambers.org.uk/event/charity-golf-day-2026/
CATEGORIES:Flagship Event
END:VEVENT
BEGIN:VEVENT
DTSTART;TZID=Europe/London:20260617T130000
DTEND;TZID=Europe/London:20260617T223000
DTSTAMP:20260423T124957
CREATED:20251211T171325Z
LAST-MODIFIED:20260227T104200Z
UID:6111-1781701200-1781735400@westlondonchambers.org.uk
SUMMARY:Regeneration Event 2026
DESCRIPTION:We’re excited to announce the West London Regeneration Conference 2026\, taking place on Wednesday\, 17 June 2026\, at Clayton Hotel Chiswick\, London. \n\n\n\nThis two-part event is to mark the many developments across our three boroughs\, Ealing\, Hammersmith & Fulham and Hounslow. \n\n\n\n\n\n\n\n\n\n\n\n\n\nPresentations (1:30 pm – 5:30 pm) \n\n\n\nThe afternoon starts with presentations from major developers and stakeholders in the boroughs outlining their vision. There will also be exhibition/stand space. \n\n\n\nIf you’re interested in exhibiting\, please contact Sally Smith at: sallysmith@westlondonchambers.org.uk or 07879 813817. \n\n\n\nCompanies taking part TBA \n\n\n\n\nBook Here\n\n\n\n\n\n\n\n\n\n\n\n\n\n\nDrinks Reception and dinner (5:30 pm – 9:30 pm) \n\n\n\nThe two parts of the event are separate\, but you are able to attend both if you would like. Naturally\, there is a cost involved for the drinks and gala dinner. \n\n\n\nPre-dinner drinks followed by a three course meal with keynote speakers TBA \n\n\n\nJust a quick note to let you know that the England v Croatia World Cup match takes place on 17th June\, with a 9.00 pm kick-off. \n\n\n\nWe will aim to finish our event in good time so that anyone wishing to watch the match can do so. The hotel has confirmed that the game will be screened on the premises. \n\n\n\n\nRegister here
URL:https://westlondonchambers.org.uk/event/regeneration-event-2026/
CATEGORIES:Flagship Event
END:VEVENT
BEGIN:VEVENT
DTSTART;TZID=Europe/London:20260703T083000
DTEND;TZID=Europe/London:20260703T103000
DTSTAMP:20260423T124957
CREATED:20251212T130855Z
LAST-MODIFIED:20251212T130901Z
UID:6132-1783067400-1783074600@westlondonchambers.org.uk
SUMMARY:Acton BID Business Breakfast
DESCRIPTION:More details TBC
URL:https://westlondonchambers.org.uk/event/acton-bid-business-breakfast-27/
CATEGORIES:Business Breakfast
END:VEVENT
BEGIN:VEVENT
DTSTART;TZID=Europe/London:20260911T083000
DTEND;TZID=Europe/London:20260911T103000
DTSTAMP:20260423T124957
CREATED:20251212T131019Z
LAST-MODIFIED:20251212T131024Z
UID:6134-1789115400-1789122600@westlondonchambers.org.uk
SUMMARY:Acton BID Business Breakfast
DESCRIPTION:More details TBC
URL:https://westlondonchambers.org.uk/event/acton-bid-business-breakfast-28/
CATEGORIES:Business Breakfast
END:VEVENT
BEGIN:VEVENT
DTSTART;TZID=Europe/London:20261113T083000
DTEND;TZID=Europe/London:20261113T103000
DTSTAMP:20260423T124957
CREATED:20251212T131056Z
LAST-MODIFIED:20251212T131103Z
UID:6136-1794558600-1794565800@westlondonchambers.org.uk
SUMMARY:Acton BID Business Breakfast
DESCRIPTION:More details TBC
URL:https://westlondonchambers.org.uk/event/acton-bid-business-breakfast-29/
CATEGORIES:Business Breakfast
END:VEVENT
BEGIN:VEVENT
DTSTART;TZID=Europe/London:20261120T183000
DTEND;TZID=Europe/London:20261120T235900
DTSTAMP:20260423T124957
CREATED:20251211T171745Z
LAST-MODIFIED:20251211T171753Z
UID:6115-1795199400-1795219140@westlondonchambers.org.uk
SUMMARY:Business Awards 2026
DESCRIPTION:More details TBC
URL:https://westlondonchambers.org.uk/event/business-awards-2026/
CATEGORIES:Flagship Event
END:VEVENT
END:VCALENDAR