BEGIN:VCALENDAR
VERSION:2.0
PRODID:-//West London Chambers - ECPv5.8.1//NONSGML v1.0//EN
CALSCALE:GREGORIAN
METHOD:PUBLISH
X-WR-CALNAME:West London Chambers
X-ORIGINAL-URL:https://westlondonchambers.org.uk
X-WR-CALDESC:Events for West London Chambers
BEGIN:VTIMEZONE
TZID:Europe/London
BEGIN:DAYLIGHT
TZOFFSETFROM:+0000
TZOFFSETTO:+0100
TZNAME:BST
DTSTART:20220327T010000
END:DAYLIGHT
BEGIN:STANDARD
TZOFFSETFROM:+0100
TZOFFSETTO:+0000
TZNAME:GMT
DTSTART:20221030T010000
END:STANDARD
BEGIN:DAYLIGHT
TZOFFSETFROM:+0000
TZOFFSETTO:+0100
TZNAME:BST
DTSTART:20230326T010000
END:DAYLIGHT
BEGIN:STANDARD
TZOFFSETFROM:+0100
TZOFFSETTO:+0000
TZNAME:GMT
DTSTART:20231029T010000
END:STANDARD
END:VTIMEZONE
BEGIN:VEVENT
DTSTART;TZID=Europe/London:20230208T100000
DTEND;TZID=Europe/London:20230208T110000
DTSTAMP:20260425T141443
CREATED:20230112T121233Z
LAST-MODIFIED:20230112T121237Z
UID:3519-1675850400-1675854000@westlondonchambers.org.uk
SUMMARY:Business Budget Consultation
DESCRIPTION:Book Here
URL:https://westlondonchambers.org.uk/event/business-budget-consultation/
CATEGORIES:Webinar
END:VEVENT
BEGIN:VEVENT
DTSTART;TZID=Europe/London:20230201T083000
DTEND;TZID=Europe/London:20230201T103000
DTSTAMP:20260425T141443
CREATED:20221214T163458Z
LAST-MODIFIED:20230131T125356Z
UID:3487-1675240200-1675247400@westlondonchambers.org.uk
SUMMARY:Brentford Business Breakfast
DESCRIPTION:book here
URL:https://westlondonchambers.org.uk/event/brentford-business-breakfast/
LOCATION:Novotel London Brentford\, Great West Road\, Brentford\, TW8 0GP
CATEGORIES:Business Breakfast
END:VEVENT
BEGIN:VEVENT
DTSTART;TZID=Europe/London:20230127T083000
DTEND;TZID=Europe/London:20230127T103000
DTSTAMP:20260425T141443
CREATED:20221214T151310Z
LAST-MODIFIED:20250722T090245Z
UID:3480-1674808200-1674815400@westlondonchambers.org.uk
SUMMARY:Acton BID Business Breakfast
DESCRIPTION:Book Here
URL:https://westlondonchambers.org.uk/event/acton-bid-business-breakfast/
END:VEVENT
BEGIN:VEVENT
DTSTART;TZID=Europe/London:20230126T110000
DTEND;TZID=Europe/London:20230126T140000
DTSTAMP:20260425T141443
CREATED:20221214T151055Z
LAST-MODIFIED:20221214T151056Z
UID:3475-1674730800-1674741600@westlondonchambers.org.uk
SUMMARY:BHT7 – Mental Health in the Workplace
DESCRIPTION:Book Here
URL:https://westlondonchambers.org.uk/event/bht7-mental-health-in-the-workplace/
LOCATION:Spring Grove House\, West Thames College\, London Road\, Isleworth\, TW7 4HS
END:VEVENT
BEGIN:VEVENT
DTSTART;TZID=Europe/London:20230119T113000
DTEND;TZID=Europe/London:20230119T180000
DTSTAMP:20260425T141443
CREATED:20220812T104716Z
LAST-MODIFIED:20230113T102111Z
UID:2343-1674127800-1674151200@westlondonchambers.org.uk
SUMMARY:Oman - Britain Business Conference
DESCRIPTION:This event is now sold out.
URL:https://westlondonchambers.org.uk/event/ealing-business-breakfast-3/
LOCATION:University of West London\, St Mary’s Road\, Ealing\, W5 5RF
END:VEVENT
BEGIN:VEVENT
DTSTART;TZID=Europe/London:20230111T083000
DTEND;TZID=Europe/London:20230111T103000
DTSTAMP:20260425T141443
CREATED:20221214T121152Z
LAST-MODIFIED:20221214T122513Z
UID:2399-1673425800-1673433000@westlondonchambers.org.uk
SUMMARY:Ealing Business Breakfast
DESCRIPTION:Book Here
URL:https://westlondonchambers.org.uk/event/ealing-business-breakfast-4/
LOCATION:Ealing Broadway Centre\, 1 High Street\, London\, W5 5DB
CATEGORIES:Business Breakfast
END:VEVENT
BEGIN:VEVENT
DTSTART;TZID=Europe/London:20221208T163000
DTEND;TZID=Europe/London:20221208T210000
DTSTAMP:20260425T141443
CREATED:20220812T105700Z
LAST-MODIFIED:20220812T105700Z
UID:2349-1670517000-1670533200@westlondonchambers.org.uk
SUMMARY:Christmas Drinks
DESCRIPTION:More details following
URL:https://westlondonchambers.org.uk/event/christmas-drinks/
END:VEVENT
BEGIN:VEVENT
DTSTART;TZID=Europe/London:20221124T183000
DTEND;TZID=Europe/London:20221124T233000
DTSTAMP:20260425T141443
CREATED:20220628T113246Z
LAST-MODIFIED:20221222T103907Z
UID:2264-1669314600-1669332600@westlondonchambers.org.uk
SUMMARY:Business Awards 2021/2022
DESCRIPTION:We are proud to announce the Business Awards are open. They are open to ALL businesses in the London Boroughs of Ealing\, Hammersmith & Fulham\, Hounslow and ALL our Chamber members\, wherever you are based. \n\n\n\nOur Chamber is now pleased to be able to offer Chamber services to our neighbouring boroughs: Ealing and Hammersmith & Fulham. \n\n\n\n\n\n\n\n\n\n\n\n\n\n\n\n\n\nThere are 15 award categories which you can enter now\, just click the link next to the category you want to enter\, fill out the form and submit. \n\n\n\nApply to win an award from the awards categories below: \n\n\n\n\nBest Business for Health & Wellbeing\n\n\n\nBest Business for Hospitality & Leisure\n\n\n\nBest Business for Marketing and Social media\n\n\n\nBest Business Support & Advice/Service Company\n\n\n\nBest Charity/Social Enterprise\n\n\n\nBest Entrepreneur\n\n\n\nBest Exporter of the Year\n\n\n\nBest Green Business\n\n\n\nBest Micro Company\n\n\n\nBest New Business\n\n\n\nBest Retailer\n\n\n\nBest Security Business – Cyber & Physical\n\n\n\nBest Small Company\n\n\n\nBest Tech Business\n\n\n\nEmployer of the Year\n\n\n\n\n\n\n\n\n\n\n\n\n\n\nIf you are interested in sponsoring the Business Awards in any way\, please contact: \n\n\n\nLisa Rides on lisarides@hounslowchamber.org.uk or 079150 71796 or \n\n\n\nGerry Holden on GerryHolden@hounslowchamber.org.uk or 07710 574479 \n\n\n\n”Thank you for putting up an excellent business awards GALA night 2021. My team and myself had a wonderful time and we can’t wait for the next one. Thank you!” Ash Sanjenbam\, Kingfisher SEC \n\n\n\n”Fantastic evening\, really enjoyed it. Can’t wait for next year!’‘  Cllr Steve Curran\, Leader of Hounslow Council \n\n\n\n”Well done on a fab and great evening last night. Super well put together and beautifully pulled off.”  Denise Quinlan\, Insightful Images \n\n\n\n”Many thanks for inviting me to the excellent celebration of business in West London last night. Lots of good speakers and a fine variety of awards. However\, the stars of the show were undoubtedly yourselves performing as joint MC. You kept the evening moving and the audience engaged.” Cllr Guy Vincent\, Hammersmith and Fulham Council \n\n\n\n”Really well ran event.” Matt Merrick\, Holiday Inn Brentford Lock \n\n\n\n”On behalf of myself\, Sylvia\, Richard and Jo we would like to say a huge thank you to you all for a wonderful evening. We could see that a lot of time and effort went into the organising\, to create such a successful and joyful evening.” Paul & the Team\, SKS Group
URL:https://westlondonchambers.org.uk/event/business-awards-2021-2022/
CATEGORIES:Flagship Event
ATTACH;FMTTYPE=image/png:https://westlondonchambers.org.uk/wp-content/uploads/2022/08/Sky-logo-cropped.png
END:VEVENT
BEGIN:VEVENT
DTSTART;TZID=Europe/London:20221116T140000
DTEND;TZID=Europe/London:20221116T150000
DTSTAMP:20260425T141443
CREATED:20220812T102342Z
LAST-MODIFIED:20220812T102342Z
UID:2404-1668607200-1668610800@westlondonchambers.org.uk
SUMMARY:Mediation & Arbitration Webinar
DESCRIPTION:Click here to register your attendance.
URL:https://westlondonchambers.org.uk/event/mediation-arbitration-webinar/
CATEGORIES:Webinar
END:VEVENT
BEGIN:VEVENT
DTSTART;TZID=Europe/London:20221103T100000
DTEND;TZID=Europe/London:20221103T110000
DTSTAMP:20260425T141443
CREATED:20220812T105131Z
LAST-MODIFIED:20220812T105131Z
UID:2347-1667469600-1667473200@westlondonchambers.org.uk
SUMMARY:Procurement/supply chain webinar
DESCRIPTION:Click here to register your attendance.
URL:https://westlondonchambers.org.uk/event/procurement-supply-chain-webinar/
CATEGORIES:Webinar
END:VEVENT
BEGIN:VEVENT
DTSTART;TZID=Europe/London:20221027T083000
DTEND;TZID=Europe/London:20221027T103000
DTSTAMP:20260425T141443
CREATED:20220812T101725Z
LAST-MODIFIED:20220812T101725Z
UID:2403-1666859400-1666866600@westlondonchambers.org.uk
SUMMARY:Ealing Business Breakfast
DESCRIPTION:Book Here
URL:https://westlondonchambers.org.uk/event/ealing-business-breakfast-2/
LOCATION:trash-2-go
CATEGORIES:Business Breakfast
END:VEVENT
BEGIN:VEVENT
DTSTART;TZID=Europe/London:20221013T180000
DTEND;TZID=Europe/London:20221013T200000
DTSTAMP:20260425T141443
CREATED:20220812T104323Z
LAST-MODIFIED:20220812T104323Z
UID:2341-1665684000-1665691200@westlondonchambers.org.uk
SUMMARY:University of West London Evening
DESCRIPTION:More details following
URL:https://westlondonchambers.org.uk/event/university-of-west-london-evening/
END:VEVENT
BEGIN:VEVENT
DTSTART;TZID=Europe/London:20221012T083000
DTEND;TZID=Europe/London:20221012T103000
DTSTAMP:20260425T141443
CREATED:20220812T103645Z
LAST-MODIFIED:20220812T103645Z
UID:2335-1665563400-1665570600@westlondonchambers.org.uk
SUMMARY:Chiswick Business Breakfast
DESCRIPTION:
URL:https://westlondonchambers.org.uk/event/chiswick-business-breakfast-2/
CATEGORIES:Business Breakfast
END:VEVENT
BEGIN:VEVENT
DTSTART;TZID=Europe/London:20221011T100000
DTEND;TZID=Europe/London:20221011T110000
DTSTAMP:20260425T141443
CREATED:20220812T104039Z
LAST-MODIFIED:20220812T104039Z
UID:2339-1665482400-1665486000@westlondonchambers.org.uk
SUMMARY:Tech webinar
DESCRIPTION:Click here to register your attendance.
URL:https://westlondonchambers.org.uk/event/tech-webinar/
CATEGORIES:Webinar
END:VEVENT
BEGIN:VEVENT
DTSTART;TZID=Europe/London:20220929T100000
DTEND;TZID=Europe/London:20220929T110000
DTSTAMP:20260425T141443
CREATED:20220812T102654Z
LAST-MODIFIED:20220812T102654Z
UID:2331-1664445600-1664449200@westlondonchambers.org.uk
SUMMARY:Cost of Living
DESCRIPTION:Book Now
URL:https://westlondonchambers.org.uk/event/cost-of-living-webinar/
END:VEVENT
BEGIN:VEVENT
DTSTART;TZID=Europe/London:20220916T103000
DTEND;TZID=Europe/London:20220916T110000
DTSTAMP:20260425T141443
CREATED:20220812T100542Z
LAST-MODIFIED:20220812T100542Z
UID:2322-1663324200-1663326000@westlondonchambers.org.uk
SUMMARY:Libya Trade Conference
DESCRIPTION:Book Now
URL:https://westlondonchambers.org.uk/event/libya-trade-conference/
LOCATION:Spring Grove House\, West Thames College\, London Road\, Isleworth\, TW7 4HS
CATEGORIES:International Trade
END:VEVENT
BEGIN:VEVENT
DTSTART;TZID=Europe/London:20220720T180000
DTEND;TZID=Europe/London:20220720T210000
DTSTAMP:20260425T141443
CREATED:20220517T143423Z
LAST-MODIFIED:20220517T143423Z
UID:2401-1658340000-1658350800@westlondonchambers.org.uk
SUMMARY:Summer drinks
DESCRIPTION:Come along and enjoy summer drinks at the historical Hogarth House! \n\n\n\nBook now! https://july-summer-drinks-2022.eventbrite.co.uk
URL:https://westlondonchambers.org.uk/event/summer-drinks/
END:VEVENT
BEGIN:VEVENT
DTSTART;TZID=Europe/London:20220719T140000
DTEND;TZID=Europe/London:20220719T160000
DTSTAMP:20260425T141443
CREATED:20220517T143156Z
LAST-MODIFIED:20220517T143156Z
UID:2248-1658239200-1658246400@westlondonchambers.org.uk
SUMMARY:Green/Sustainability webinar
DESCRIPTION:Zoom webinar on sustainability \n\n\n\nWe have an excellent panel of speakers\, including Emmanuelle Salles le Breuil\, from Hounslow’s twin town: Issy les Moulineux\, Paris. \n\n\n\nClick Here for Zoom link .
URL:https://westlondonchambers.org.uk/event/green-sustainability-webinar/
END:VEVENT
BEGIN:VEVENT
DTSTART;TZID=Europe/London:20220713T083000
DTEND;TZID=Europe/London:20220713T103000
DTSTAMP:20260425T141443
CREATED:20220517T141944Z
LAST-MODIFIED:20220517T141944Z
UID:2244-1657701000-1657708200@westlondonchambers.org.uk
SUMMARY:Business Breakfast Hammersmith
DESCRIPTION:A great opportunity to network with local businesses. \n\n\n\nBook now! https://Riverside-Business-Breakfast.eventbrite.co.uk \n\n\n\nTeas\, filter coffee\, juice and pastries will be provided.
URL:https://westlondonchambers.org.uk/event/business-breakfast-hammersmith/
END:VEVENT
BEGIN:VEVENT
DTSTART;TZID=Europe/London:20220630T133000
DTEND;TZID=Europe/London:20220630T220000
DTSTAMP:20260425T141443
CREATED:20220325T200809Z
LAST-MODIFIED:20220325T200809Z
UID:2091-1656595800-1656626400@westlondonchambers.org.uk
SUMMARY:Charity Golf Afternoon
DESCRIPTION:Tee Reserved: 1:30pm -2:30 pmDinner at 7:00pmDining is open to non-golfers in the evening at £20 eachPrice £60 Golf plus two-course meal & prizesPrizes to be donated by Chambers for Ukraine Charity raffle \n\n\n\nMore details including how to book your spot coming soon! \n\n\n\n \n\n\n\nThe event is presented by Local Chambers in West and South London
URL:https://westlondonchambers.org.uk/event/charity-golf-afternoon/
LOCATION:Wyke Green Golf Club\, Syon Lane\, Isleworth\, TW7 5PT
END:VEVENT
BEGIN:VEVENT
DTSTART;TZID=Europe/London:20220623T083000
DTEND;TZID=Europe/London:20220623T103000
DTSTAMP:20260425T141443
CREATED:20220428T135145Z
LAST-MODIFIED:20220428T135145Z
UID:2174-1655973000-1655980200@westlondonchambers.org.uk
SUMMARY:Ealing Trailfinders Rugby Club
DESCRIPTION:Bookings will be taken by Eventbrite so all need to book. \n\n\n\nTeas\, coffee\, juice\, pastries and bacon butties will be provided. \n\n\n\nParking is available. \n\n\n\nChamber member tickets are £10 + VAT & booking fee \n\n\n\nNon-Chamber member tickets are £15 + VAT & booking fee \n\n\n\nhttps://trailfinders-business-breakfast.eventbrite.co.uk
URL:https://westlondonchambers.org.uk/event/ealing-trailfinders-rugby-club/
LOCATION:Ealing Trailfinders Rugby Club\, Vallis Way\, Ealing\, London\, W13 0DD
CATEGORIES:Business Breakfast
ATTACH;FMTTYPE=image/gif:https://westlondonchambers.org.uk/wp-content/uploads/2022/05/admin-ajax.gif
END:VEVENT
BEGIN:VEVENT
DTSTART;TZID=Europe/London:20220616T140000
DTEND;TZID=Europe/London:20220616T220000
DTSTAMP:20260425T141443
CREATED:20220325T195254Z
LAST-MODIFIED:20221110T175249Z
UID:2087-1655388000-1655416800@westlondonchambers.org.uk
SUMMARY:Regeneration & Regrowth Conference 2022
DESCRIPTION:This two-part event is to mark the many developments across the borough. \n\n\n\n(2:00 pm – 6:00 pm) \n\n\n\nCome along to learn more about the exciting developments/projects across the borough. \n\n\n\nPresentations TBA \n\n\n\nEntrance is free of charge for pre-registered companies/attendees. We are expecting over 100 people. \n\n\n\nTo pre-register\, please click here. \n\n\n\n____________________________________________ \n\n\n\nThe two parts of the event are separate\, but you are able to attend both if you would like. Naturally\, there is a cost involved for the gala dinner. \n\n\n\n____________________________________________ \n\n\n\n(6:30 pm – 10:00 pm) \n\n\n\nPre-dinner drinks followed by a three-course meal with keynote speakers TBA \n\n\n\nTicket price is £79 plus VAT for members and £89 plus VAT for non-members per place. Book via the link above. \n\n\n\nFor a table of 10 please contact Lisa Rides at lisarides@hounslowchamber.org.uk \n\n\n\nPlease let us know of any dietary requirements.
URL:https://westlondonchambers.org.uk/event/regeneration-and-regrowth-2022/
LOCATION:Holiday Inn London – Brentford Lock\, Commerce Rd\, London\, England\, TW8 8GA
CATEGORIES:Flagship Event
ATTACH;FMTTYPE=image/jpeg:https://westlondonchambers.org.uk/wp-content/uploads/2021/05/HCC-50-scaled.jpg
END:VEVENT
BEGIN:VEVENT
DTSTART;TZID=Europe/London:20220609T183000
DTEND;TZID=Europe/London:20220609T200000
DTSTAMP:20260425T141443
CREATED:20220517T141352Z
LAST-MODIFIED:20220517T141352Z
UID:2400-1654799400-1654804800@westlondonchambers.org.uk
SUMMARY:Building Business inWest London
DESCRIPTION:A great opportunity to network with local businesses
URL:https://westlondonchambers.org.uk/event/building-business-inwest-london/
END:VEVENT
BEGIN:VEVENT
DTSTART;TZID=Europe/London:20220518T083000
DTEND;TZID=Europe/London:20220518T103000
DTSTAMP:20260425T141443
CREATED:20220513T114627Z
LAST-MODIFIED:20220513T114627Z
UID:2398-1652862600-1652869800@westlondonchambers.org.uk
SUMMARY:Hounslow Business Breakfast
DESCRIPTION:Your first chance to have a close look at the new Hounslow High Street quarter! \n\n\n\n \n\n\n\nCome and joins us!\n\n\n\nCoffee\, tea and pastries will be provided so come along for a fantastic networking opportunity. \n\n\n\nDate: Wednesday\, 18 May 2022 \n\n\n\nTime: 08:30 – 10:30 AM \n\n\n\n£10 + VAT for members \n\n\n\n£15 + VAT for non-members \n\n\n\nBarratt London – Hounslow High Street Quarter\, 4 Smithy Lane \n\n\n\nHounslow TW3 1EH \n\n\n\n \n\n\n\nClick here to book! \n\n\n\nView Map
URL:https://westlondonchambers.org.uk/event/hounslow-business-breakfast-2/
CATEGORIES:Business Breakfast
ATTACH;FMTTYPE=:
END:VEVENT
BEGIN:VEVENT
DTSTART;TZID=Europe/London:20220428T083000
DTEND;TZID=Europe/London:20220428T103000
DTSTAMP:20260425T141443
CREATED:20220325T191904Z
LAST-MODIFIED:20220325T191904Z
UID:2078-1651134600-1651141800@westlondonchambers.org.uk
SUMMARY:Chiswick Business Breakfast
DESCRIPTION:A great opportunity to network with local businesses.  \n\n\n\nBookings will be taken by Eventbrite so all need to book.  \n\n\n\nTeas\, filter coffee\, juice and pastries will be provided.  \n\n\n\nBook your ticket here
URL:https://westlondonchambers.org.uk/event/chiswick-business-breakfast/
LOCATION:Groundworks Chiswick\, 114 Power Road\, London\, W4 5PY\, United Kingdom
CATEGORIES:Business Breakfast
ATTACH;FMTTYPE=image/jpeg:https://westlondonchambers.org.uk/wp-content/uploads/2022/04/LinkedIn-Chiswick-Business-Breakfast-1.jpg
END:VEVENT
BEGIN:VEVENT
DTSTART;TZID=Europe/London:20220421T080000
DTEND;TZID=Europe/London:20220421T120000
DTSTAMP:20260425T141443
CREATED:20220405T113925Z
LAST-MODIFIED:20220405T113925Z
UID:1994-1650528000-1650542400@westlondonchambers.org.uk
SUMMARY:Meet the Builder Event
DESCRIPTION:We would like to welcome local subcontractors\, consultants and other trade suppliers to meet with us at our Meet The Builder event to discuss opportunities at Lampton Parkside and other Hill sites. \n\n\n\nLampton Road is a live project being delivered by Hill which consists of 780 homes due for completion in 2030. \n\n\n\nThe site team will be available to answer any questions throughout the morning. \n\n\n\nIf you would like to join us on Thursday 21st April\, please book your place here: https://meet-the-builder.eventbrite.co.uk or for more information\, email: 029LamptonRD@hill.co.uk
URL:https://westlondonchambers.org.uk/event/meet-the-builder/
LOCATION:100 Lampton Road\, 100 Lampton Road\, Hounslow\, TW3 4EB\, United Kingdom
ATTACH;FMTTYPE=image/jpeg:https://westlondonchambers.org.uk/wp-content/uploads/2022/04/Hounslow-Meet-the-builder-21.04.22.jpg
END:VEVENT
BEGIN:VEVENT
DTSTART;TZID=Europe/London:20220413T083000
DTEND;TZID=Europe/London:20220413T103000
DTSTAMP:20260425T141443
CREATED:20220308T110601Z
LAST-MODIFIED:20220308T110601Z
UID:2048-1649838600-1649845800@westlondonchambers.org.uk
SUMMARY:White City/Hammersmith Business Breakfast
DESCRIPTION:The Business Breakfasts are back in full swing! \n\n\n\nBookings will be taken by Eventbrite so all need to book. \n\n\n\nVenture X will provide the teas\, filter coffee\, juice and pastries. \n\n\n\n\n   \n\n\n\n   \n\n\n\nBook Here!
URL:https://westlondonchambers.org.uk/event/white-city-business-breakfast/
LOCATION:Venture X White City\, One Ariel Way\, London\, W12 7SL\, United Kingdom
CATEGORIES:Business Breakfast
ATTACH;FMTTYPE=image/png:https://westlondonchambers.org.uk/wp-content/uploads/2022/03/White-City-Business-Breakfast-IG-1.png
END:VEVENT
BEGIN:VEVENT
DTSTART;TZID=Europe/London:20220330T083000
DTEND;TZID=Europe/London:20220330T103000
DTSTAMP:20260425T141443
CREATED:20220810T155724Z
LAST-MODIFIED:20220810T155724Z
UID:2315-1648629000-1648636200@westlondonchambers.org.uk
SUMMARY:Ealing Business Breakfast
DESCRIPTION:The Business Breakfasts are back! \n\n\n\n       \n\n\n\nBookings will be taken by Eventbrite so all need to book. We encourage you to arrive by public transport\, but there is free parking at the hotel if you provide your vehicle registration number on the day.  \n\n\n\n      Tea\, coffee\, juice and pastries will be provided by the Hampton.We look forward to seeing you there! \n\n\n\n       \n\n\n\nBook Here!
URL:https://westlondonchambers.org.uk/event/ealing-business-breakfast/
LOCATION:Hampton by Hilton London Park Royal\, Connell Crescent\, Western Avenue\, London\, W5 3BQ\, United Kingdom
END:VEVENT
BEGIN:VEVENT
DTSTART;TZID=Europe/London:20220315T170000
DTEND;TZID=Europe/London:20220315T203000
DTSTAMP:20260425T141443
CREATED:20220810T161236Z
LAST-MODIFIED:20220810T161236Z
UID:2402-1647363600-1647376200@westlondonchambers.org.uk
SUMMARY:International Women's Day Event at Sky
DESCRIPTION:International Women’s Day Event at Sky \n\n\n\nA great way to grow your network and do more business. We welcome all genders to show your support by joining us on Tuesday 15th March at 5:00 pm for this event\, with presentations and a Q&A panel. \n\n\n\n \n\n\n\nSpeakers: \n\n\n\nRuth Cadbury – MPLouise Punter – CEO Surrey ChambersSam Leigh – MD Lampton GroupLily Bath – Deputy Leader Hounslow CouncilCarol Massay – Head of Construction Access UKSarah Jane Gardner – BEM Serving Our Superheroes\n\n\n\n \n\n\n\n \n\n\n\nThese events are always popular so book early to guarantee your place. \n\n\n\nAs per the sponsors’ requirements\, bookings can only be taken for Hounslow registered companies. Companies that can show that the bulk of their business is being undertaken in Hounslow are also welcome to attend. \n\n\n\nBook your free tickets now! \n\n\n\nhttps://www.eventbrite.co.uk/e/networking-evening-event-at-sky-tickets-213565980597 \n\n\n\nMore about our sponsors:  \n\n\n\nHounslow Council’s Innovate & Grow business support programme has been designed to support businesses to adapt\, survive\, and thrive against the ongoing challenges caused by the pandemic and resulting impacts on customer behaviours. The programme is funded by the Government’s COVID-19 Additional Restrictions Grant. Click here for the full information. \n\n\n\nTo learn more about current open business grant schemes\, click here.
URL:https://westlondonchambers.org.uk/event/international-womens-day-event-at-sky/
END:VEVENT
BEGIN:VEVENT
DTSTART;TZID=Europe/London:20220224T080000
DTEND;TZID=Europe/London:20220224T163000
DTSTAMP:20260425T141443
CREATED:20220926T132130Z
LAST-MODIFIED:20220926T132130Z
UID:2375-1645689600-1645720200@westlondonchambers.org.uk
SUMMARY:FESTIVAL OF BUSINESS 2022
DESCRIPTION:Hounslow is the borough of business – our economy is strong\, made up of nearly a third of a million people (270k)\, over 18\,000 businesses. It is an economy of nearly £20bn\, one of the largest economies in London. \n\n\n\nThe Hounslow Festival of Business is part of our regrowth\, showcasing and promoting our diverse business community. The day started with a stakeholder breakfast and keynote speaker Nigel Milton of Heathrow\, Chief of Staff & Carbon. This was followed by an exhibition of 50 stands from international and West London based businesses. \n\n\n\nFor any queries about our Festivals of Business contact Ina on inamorisson@hounslowchamber.org.uk
URL:https://westlondonchambers.org.uk/event/festival-of-business-2022/
LOCATION:Holiday Inn London – Brentford Lock\, Commerce Rd\, London\, England\, TW8 8GA
CATEGORIES:Flagship Event
END:VEVENT
END:VCALENDAR