BEGIN:VCALENDAR
VERSION:2.0
PRODID:-//West London Chambers - ECPv5.8.1//NONSGML v1.0//EN
CALSCALE:GREGORIAN
METHOD:PUBLISH
X-WR-CALNAME:West London Chambers
X-ORIGINAL-URL:https://westlondonchambers.org.uk
X-WR-CALDESC:Events for West London Chambers
BEGIN:VTIMEZONE
TZID:Europe/London
BEGIN:DAYLIGHT
TZOFFSETFROM:+0000
TZOFFSETTO:+0100
TZNAME:BST
DTSTART:20230326T010000
END:DAYLIGHT
BEGIN:STANDARD
TZOFFSETFROM:+0100
TZOFFSETTO:+0000
TZNAME:GMT
DTSTART:20231029T010000
END:STANDARD
END:VTIMEZONE
BEGIN:VEVENT
DTSTART;TZID=Europe/London:20230810T183000
DTEND;TZID=Europe/London:20230810T210000
DTSTAMP:20260425T035452
CREATED:20230703T170519Z
LAST-MODIFIED:20230703T170520Z
UID:4269-1691692200-1691701200@westlondonchambers.org.uk
SUMMARY:Summer Evening Drinks
DESCRIPTION:Click here to book now
URL:https://westlondonchambers.org.uk/event/summer-evening-drinks/
LOCATION:ArtsEd\, 14 Bath Road\, London\, W4 1LY
END:VEVENT
BEGIN:VEVENT
DTSTART;TZID=Europe/London:20230816T100000
DTEND;TZID=Europe/London:20230816T110000
DTSTAMP:20260425T035452
CREATED:20230703T164725Z
LAST-MODIFIED:20230724T134840Z
UID:4265-1692180000-1692183600@westlondonchambers.org.uk
SUMMARY:Net Zero Webinar
DESCRIPTION:Click here to book now
URL:https://westlondonchambers.org.uk/event/net-zero-webinar/
CATEGORIES:Webinar
END:VEVENT
END:VCALENDAR