BEGIN:VCALENDAR
VERSION:2.0
PRODID:-//West London Chambers - ECPv5.8.1//NONSGML v1.0//EN
CALSCALE:GREGORIAN
METHOD:PUBLISH
X-WR-CALNAME:West London Chambers
X-ORIGINAL-URL:https://westlondonchambers.org.uk
X-WR-CALDESC:Events for West London Chambers
BEGIN:VTIMEZONE
TZID:Europe/London
BEGIN:DAYLIGHT
TZOFFSETFROM:+0000
TZOFFSETTO:+0100
TZNAME:BST
DTSTART:20230326T010000
END:DAYLIGHT
BEGIN:STANDARD
TZOFFSETFROM:+0100
TZOFFSETTO:+0000
TZNAME:GMT
DTSTART:20231029T010000
END:STANDARD
END:VTIMEZONE
BEGIN:VEVENT
DTSTART;TZID=Europe/London:20230906T083000
DTEND;TZID=Europe/London:20230906T103000
DTSTAMP:20260425T035452
CREATED:20230817T103227Z
LAST-MODIFIED:20230820T132259Z
UID:4338-1693989000-1693996200@westlondonchambers.org.uk
SUMMARY:Advance for Growth 2023; Business Breakfast
DESCRIPTION:The Advance for Growth business Breakfast taking place at Hang Hounslow \n\n\n\nhttps://www.eventbrite.co.uk/myevent?eid=690026958207
URL:https://westlondonchambers.org.uk/event/advance-for-growth-breakfast/
LOCATION:Hang Climbing Centre\, High Street Quarter\, 9 Smithy Lane\, Hounslow\, TW3 1EH\, High Street Quarter\,\, Hounslow\,\, TW3 1EH
END:VEVENT
BEGIN:VEVENT
DTSTART;TZID=Europe/London:20230920T160000
DTEND;TZID=Europe/London:20230920T220000
DTSTAMP:20260425T035452
CREATED:20230913T151725Z
LAST-MODIFIED:20230913T151730Z
UID:4361-1695225600-1695247200@westlondonchambers.org.uk
SUMMARY:UK-Taiwan Friendship Day
DESCRIPTION:This event is designed to celebrate the vibrant Taiwanese community in the UK\, showcase the rich and cultural heritage and soft power of Taiwan.
URL:https://westlondonchambers.org.uk/event/uk-taiwan-friendship-day/
END:VEVENT
BEGIN:VEVENT
DTSTART;TZID=Europe/London:20230921T100000
DTEND;TZID=Europe/London:20230921T110000
DTSTAMP:20260425T035452
CREATED:20230703T164856Z
LAST-MODIFIED:20230907T110532Z
UID:4267-1695290400-1695294000@westlondonchambers.org.uk
SUMMARY:Financial Webinar
DESCRIPTION:Boost your Business: A Finance webinar for Soaring Success \n\n\n\n\n\nClick here to book now
URL:https://westlondonchambers.org.uk/event/build-your-business-webinar/
CATEGORIES:Webinar
END:VEVENT
BEGIN:VEVENT
DTSTART;TZID=Europe/London:20230922T083000
DTEND;TZID=Europe/London:20230922T103000
DTSTAMP:20260425T035452
CREATED:20230523T134136Z
LAST-MODIFIED:20230921T105105Z
UID:4200-1695371400-1695378600@westlondonchambers.org.uk
SUMMARY:Acton BID business breakfast
DESCRIPTION:Click here to book
URL:https://westlondonchambers.org.uk/event/acton-bid-business-breakfast-4/
CATEGORIES:Business Breakfast
END:VEVENT
BEGIN:VEVENT
DTSTART;TZID=Europe/London:20230926T180000
DTEND;TZID=Europe/London:20230926T180000
DTSTAMP:20260425T035452
CREATED:20230907T100822Z
LAST-MODIFIED:20230925T115235Z
UID:4354-1695751200-1695751200@westlondonchambers.org.uk
SUMMARY:Introduction to Waiheke Distilling
DESCRIPTION:NZ rugby may be a bit touch and go\, but this is a serve that will be in the finals! Book here
URL:https://westlondonchambers.org.uk/event/introduction-to-waiheke-distilling/
END:VEVENT
END:VCALENDAR