BEGIN:VCALENDAR
VERSION:2.0
PRODID:-//West London Chambers - ECPv5.8.1//NONSGML v1.0//EN
CALSCALE:GREGORIAN
METHOD:PUBLISH
X-WR-CALNAME:West London Chambers
X-ORIGINAL-URL:https://westlondonchambers.org.uk
X-WR-CALDESC:Events for West London Chambers
BEGIN:VTIMEZONE
TZID:Europe/London
BEGIN:DAYLIGHT
TZOFFSETFROM:+0000
TZOFFSETTO:+0100
TZNAME:BST
DTSTART:20240331T010000
END:DAYLIGHT
BEGIN:STANDARD
TZOFFSETFROM:+0100
TZOFFSETTO:+0000
TZNAME:GMT
DTSTART:20241027T010000
END:STANDARD
END:VTIMEZONE
BEGIN:VEVENT
DTSTART;TZID=Europe/London:20240116T083000
DTEND;TZID=Europe/London:20240116T103000
DTSTAMP:20260424T204342
CREATED:20231107T151243Z
LAST-MODIFIED:20231107T151246Z
UID:4464-1705393800-1705401000@westlondonchambers.org.uk
SUMMARY:White City Business Breakfast
DESCRIPTION:Join us for a lively morning of networking and light breakfast at Venture X\, White City on January 16\, 2023\, at 8:30am! Book Here.
URL:https://westlondonchambers.org.uk/event/white-city-business-breakfast-2/
LOCATION:White City\, Venture X\, 1 Ariel Way\, White City\, London\, W12 7SL\, United Kingdom
END:VEVENT
BEGIN:VEVENT
DTSTART;TZID=Europe/London:20240118T110000
DTEND;TZID=Europe/London:20240119T220000
DTSTAMP:20260424T204342
CREATED:20240110T114531Z
LAST-MODIFIED:20240110T114745Z
UID:4624-1705575600-1705701600@westlondonchambers.org.uk
SUMMARY:Radanks International Mediation Conferences
DESCRIPTION:Find out more
URL:https://westlondonchambers.org.uk/event/acton-bid-business-breakfast-16/
END:VEVENT
BEGIN:VEVENT
DTSTART;TZID=Europe/London:20240118T180000
DTEND;TZID=Europe/London:20240118T200000
DTSTAMP:20260424T204342
CREATED:20240110T113719Z
LAST-MODIFIED:20240110T113722Z
UID:4619-1705600800-1705608000@westlondonchambers.org.uk
SUMMARY:H&F Business Networking Event – Networking London
DESCRIPTION:Would you like to meet other likeminded local business owners\, share ideas and grow your network? Come to the next Networking London event. \n\n\n\nPlease register early to avoid disappointment. \n\n\n\nIf you can’t make this one\, please click here for future dates. \n\n\n\nBusinesses based in the borough can attend free for the first event. The fee will be £15 thereafter. \n\n\n\nNetworking London is a non-profit group founded by businesses in the borough that runs monthly evening networking events for local businesses. Their goal is to help businesses and organisations make connections with people who can help your business grow. \n\n\n\nYou can also find out what is happening in the borough including initiatives that can help you. Bring plenty of business cards so you can exchange them with new contacts. There will also be food and drinks available throughout the night.If you would like to attend\, please register here
URL:https://westlondonchambers.org.uk/event/hf-business-networking-event-networking-london/
LOCATION:Crabtree Pub\, Rainville road\, W6 9HJ
END:VEVENT
BEGIN:VEVENT
DTSTART;TZID=Europe/London:20240119T083000
DTEND;TZID=Europe/London:20240119T223000
DTSTAMP:20260424T204342
CREATED:20231205T165453Z
LAST-MODIFIED:20231205T165458Z
UID:4525-1705653000-1705703400@westlondonchambers.org.uk
SUMMARY:Acton BID Business Breakfast
DESCRIPTION:Our first Acton BID of 2024\, Click Here to book
URL:https://westlondonchambers.org.uk/event/acton-bid-business-breakfast-5/
LOCATION:David Lloyd Gym\, East Acton Lane\, London\, W3 7HB
END:VEVENT
BEGIN:VEVENT
DTSTART;TZID=Europe/London:20240125T083000
DTEND;TZID=Europe/London:20240125T093000
DTSTAMP:20260424T204342
CREATED:20240110T110706Z
LAST-MODIFIED:20240110T110710Z
UID:4591-1706171400-1706175000@westlondonchambers.org.uk
SUMMARY:Hounslow Council: Business Budget Presentation 
DESCRIPTION:This year the annual business budget consultation led by Hounslow Council\, is taking a slightly different format. The event is hybrid. The Leader of the Council\, Cllr Shantanu Rajawat\, is hosting a meeting\, with an invited limited audience of Chamber members. We have made sure the selected businesses represent the full range of companies in our diverse borough. \n\n\n\nThere is no limit on the number of people who can join us online\, and you can also ask questions. This is your opportunity to have your business voice heard – try not to miss it!
URL:https://westlondonchambers.org.uk/event/hounslow-council-business-budget-presentation/
LOCATION:Hounslow House\, 7 Bath Road\, Hounslow\, TW3 3EB
END:VEVENT
BEGIN:VEVENT
DTSTART;TZID=Europe/London:20240125T100000
DTEND;TZID=Europe/London:20240125T123000
DTSTAMP:20260424T204342
CREATED:20240110T110326Z
LAST-MODIFIED:20240110T110328Z
UID:4588-1706176800-1706185800@westlondonchambers.org.uk
SUMMARY:Procurement: Meet the Buyer
DESCRIPTION:Book here
URL:https://westlondonchambers.org.uk/event/procurement-meet-the-buyer/
LOCATION:Spring Grove House\, West Thames College\, London Road\, Isleworth\, TW7 4HS
END:VEVENT
BEGIN:VEVENT
DTSTART;TZID=Europe/London:20240130T093000
DTEND;TZID=Europe/London:20240130T113000
DTSTAMP:20260424T204342
CREATED:20231205T170632Z
LAST-MODIFIED:20240125T160047Z
UID:4530-1706607000-1706614200@westlondonchambers.org.uk
SUMMARY:Mental Health in the Workplace Seminar
DESCRIPTION:Click here to book
URL:https://westlondonchambers.org.uk/event/mental-health-in-the-workplace-seminar/
LOCATION:The Fortress Gtech Stadium Brentford FC\, Lionel Road South\, Brentford\, TW8 0RU
END:VEVENT
END:VCALENDAR