BEGIN:VCALENDAR
VERSION:2.0
PRODID:-//West London Chambers - ECPv5.8.1//NONSGML v1.0//EN
CALSCALE:GREGORIAN
METHOD:PUBLISH
X-WR-CALNAME:West London Chambers
X-ORIGINAL-URL:https://westlondonchambers.org.uk
X-WR-CALDESC:Events for West London Chambers
BEGIN:VTIMEZONE
TZID:Europe/London
BEGIN:DAYLIGHT
TZOFFSETFROM:+0000
TZOFFSETTO:+0100
TZNAME:BST
DTSTART:20240331T010000
END:DAYLIGHT
BEGIN:STANDARD
TZOFFSETFROM:+0100
TZOFFSETTO:+0000
TZNAME:GMT
DTSTART:20241027T010000
END:STANDARD
END:VTIMEZONE
BEGIN:VEVENT
DTSTART;TZID=Europe/London:20240911T090000
DTEND;TZID=Europe/London:20240911T110000
DTSTAMP:20260424T073957
CREATED:20240730T103323Z
LAST-MODIFIED:20240909T140709Z
UID:4897-1726045200-1726052400@westlondonchambers.org.uk
SUMMARY:Park Royal Business Breakfast
DESCRIPTION:Book here
URL:https://westlondonchambers.org.uk/event/park-royal-business-breakfast/
LOCATION:Hampton By Hilton London Park Royal\, Connell Crescent\, Western Ave\, London\, W5 3BQ\, United Kingdom
CATEGORIES:Business Breakfast
END:VEVENT
BEGIN:VEVENT
DTSTART;TZID=Europe/London:20240913T083000
DTEND;TZID=Europe/London:20240913T103000
DTSTAMP:20260424T073957
CREATED:20240110T112835Z
LAST-MODIFIED:20240805T095731Z
UID:4613-1726216200-1726223400@westlondonchambers.org.uk
SUMMARY:Acton BID Business Breakfast
DESCRIPTION:Book Here
URL:https://westlondonchambers.org.uk/event/acton-bid-business-breakfast-13/
LOCATION:David Lloyd Gym\, East Acton Lane\, London\, W3 7HB
CATEGORIES:Business Breakfast
END:VEVENT
BEGIN:VEVENT
DTSTART;TZID=Europe/London:20240913T143000
DTEND;TZID=Europe/London:20240913T160000
DTSTAMP:20260424T073957
CREATED:20240816T092502Z
LAST-MODIFIED:20240909T140923Z
UID:4935-1726237800-1726243200@westlondonchambers.org.uk
SUMMARY:West London Chambers and Infomate Sri Lanka Networking Event
DESCRIPTION:Book Here
URL:https://westlondonchambers.org.uk/event/sri-lanka-reception/
LOCATION:Spring Grove House\, West Thames College\, London Road\, Isleworth\, TW7 4HS
CATEGORIES:International Trade
END:VEVENT
BEGIN:VEVENT
DTSTART;TZID=Europe/London:20240917T080000
DTEND;TZID=Europe/London:20240918T170000
DTSTAMP:20260424T073957
CREATED:20240710T085031Z
LAST-MODIFIED:20240710T085036Z
UID:4883-1726560000-1726678800@westlondonchambers.org.uk
SUMMARY:LCCI Business Visit to Lille\, France
DESCRIPTION:LCCI is partnering with the UK Business Centre Lille to offer UK businesses an excellent opportunity to explore Northern France as a strategic business location. Join us to benefit from a tailored programme of meetings with local experts and service providers. You will learn about how you can grow your business in France and Europe through a strategic location in Northern France that offers access to new markets\, easy recruitment\, logistics optimisation\, and joining an international environment. \n\n\n\n\nRegister your interest
URL:https://westlondonchambers.org.uk/event/lcci-business-visit-to-lille-france/
CATEGORIES:International Trade
ATTACH;FMTTYPE=image/avif:https://westlondonchambers.org.uk/wp-content/uploads/2024/07/Lille.avif
END:VEVENT
BEGIN:VEVENT
DTSTART;TZID=Europe/London:20240917T100000
DTEND;TZID=Europe/London:20240917T110000
DTSTAMP:20260424T073957
CREATED:20240805T100106Z
LAST-MODIFIED:20240909T141051Z
UID:4917-1726567200-1726570800@westlondonchambers.org.uk
SUMMARY:Building Sustainably Webinar via Zoom
DESCRIPTION:Book Here
URL:https://westlondonchambers.org.uk/event/building-sustainably-webinar-via-zoom/
LOCATION:David Lloyd Gym\, East Acton Lane\, London\, W3 7HB
CATEGORIES:Webinar
END:VEVENT
BEGIN:VEVENT
DTSTART;TZID=Europe/London:20240918T083000
DTEND;TZID=Europe/London:20240918T103000
DTSTAMP:20260424T073957
CREATED:20240805T100722Z
LAST-MODIFIED:20240909T141231Z
UID:4919-1726648200-1726655400@westlondonchambers.org.uk
SUMMARY:Women in Business Breakfast
DESCRIPTION:Book Here
URL:https://westlondonchambers.org.uk/event/women-in-business-breakfast-5/
LOCATION:David Lloyd Gym\, East Acton Lane\, London\, W3 7HB
CATEGORIES:Business Breakfast
END:VEVENT
BEGIN:VEVENT
DTSTART;TZID=Europe/London:20240925T183000
DTEND;TZID=Europe/London:20240925T210000
DTSTAMP:20260424T073957
CREATED:20240909T141839Z
LAST-MODIFIED:20240909T141845Z
UID:4960-1727289000-1727298000@westlondonchambers.org.uk
SUMMARY:September Drinks
DESCRIPTION:Book Here
URL:https://westlondonchambers.org.uk/event/september-drinks/
END:VEVENT
BEGIN:VEVENT
DTSTART;TZID=Europe/London:20240926T183000
DTEND;TZID=Europe/London:20240926T203000
DTSTAMP:20260424T073957
CREATED:20240805T133707Z
LAST-MODIFIED:20240926T081244Z
UID:4927-1727375400-1727382600@westlondonchambers.org.uk
SUMMARY:Hounslow Business First Networking event
DESCRIPTION:Book Here
URL:https://westlondonchambers.org.uk/event/hounslow-business-first-networking-event/
LOCATION:David Lloyd Gym\, East Acton Lane\, London\, W3 7HB
END:VEVENT
END:VCALENDAR