BEGIN:VCALENDAR
VERSION:2.0
PRODID:-//West London Chambers - ECPv5.8.1//NONSGML v1.0//EN
CALSCALE:GREGORIAN
METHOD:PUBLISH
X-WR-CALNAME:West London Chambers
X-ORIGINAL-URL:https://westlondonchambers.org.uk
X-WR-CALDESC:Events for West London Chambers
BEGIN:VTIMEZONE
TZID:Europe/London
BEGIN:DAYLIGHT
TZOFFSETFROM:+0000
TZOFFSETTO:+0100
TZNAME:BST
DTSTART:20250330T010000
END:DAYLIGHT
BEGIN:STANDARD
TZOFFSETFROM:+0100
TZOFFSETTO:+0000
TZNAME:GMT
DTSTART:20251026T010000
END:STANDARD
END:VTIMEZONE
BEGIN:VEVENT
DTSTART;TZID=Europe/London:20250115T083000
DTEND;TZID=Europe/London:20250115T223000
DTSTAMP:20260423T160145
CREATED:20241210T160911Z
LAST-MODIFIED:20241210T160916Z
UID:5347-1736929800-1736980200@westlondonchambers.org.uk
SUMMARY:Ealing Business Breakfast
DESCRIPTION:Book Here
URL:https://westlondonchambers.org.uk/event/ealing-business-breakfast-6/
LOCATION:Freddie’s Bar\, University of West London\, St Mary's Road\, London\, W5 5RF
CATEGORIES:Business Breakfast
END:VEVENT
BEGIN:VEVENT
DTSTART;TZID=Europe/London:20250124T083000
DTEND;TZID=Europe/London:20250124T103000
DTSTAMP:20260423T160145
CREATED:20241210T161517Z
LAST-MODIFIED:20241210T161529Z
UID:5352-1737707400-1737714600@westlondonchambers.org.uk
SUMMARY:Acton BID Business Breakfast
DESCRIPTION:Book Here
URL:https://westlondonchambers.org.uk/event/acton-bid-business-breakfast-17/
CATEGORIES:Business Breakfast
END:VEVENT
BEGIN:VEVENT
DTSTART;TZID=Europe/London:20250129T083000
DTEND;TZID=Europe/London:20250129T103000
DTSTAMP:20260423T160145
CREATED:20241210T161735Z
LAST-MODIFIED:20250120T163501Z
UID:5356-1738139400-1738146600@westlondonchambers.org.uk
SUMMARY:Women in Business Breakfast
DESCRIPTION:Book here
URL:https://westlondonchambers.org.uk/event/women-in-business-breakfast-7/
LOCATION:David Lloyd Gym\, East Acton Lane\, London\, W3 7HB
CATEGORIES:Business Breakfast
END:VEVENT
BEGIN:VEVENT
DTSTART;TZID=Europe/London:20250129T173000
DTEND;TZID=Europe/London:20250129T200000
DTSTAMP:20260423T160145
CREATED:20241210T162127Z
LAST-MODIFIED:20241217T142830Z
UID:5358-1738171800-1738180800@westlondonchambers.org.uk
SUMMARY:The West London Retail Hub
DESCRIPTION:Book Here
URL:https://westlondonchambers.org.uk/event/the-west-london-retail-hub/
LOCATION:David Lloyd Gym\, East Acton Lane\, London\, W3 7HB
END:VEVENT
BEGIN:VEVENT
DTSTART;TZID=Europe/London:20250131T100000
DTEND;TZID=Europe/London:20250131T110000
DTSTAMP:20260423T160145
CREATED:20250117T125555Z
LAST-MODIFIED:20250117T125601Z
UID:5387-1738317600-1738321200@westlondonchambers.org.uk
SUMMARY:Finance for SMEs Webinar
DESCRIPTION:Book here
URL:https://westlondonchambers.org.uk/event/finance-for-smes-webinar/
CATEGORIES:Webinar
END:VEVENT
END:VCALENDAR