BEGIN:VCALENDAR
VERSION:2.0
PRODID:-//West London Chambers - ECPv5.8.1//NONSGML v1.0//EN
CALSCALE:GREGORIAN
METHOD:PUBLISH
X-WR-CALNAME:West London Chambers
X-ORIGINAL-URL:https://westlondonchambers.org.uk
X-WR-CALDESC:Events for West London Chambers
BEGIN:VTIMEZONE
TZID:Europe/London
BEGIN:DAYLIGHT
TZOFFSETFROM:+0000
TZOFFSETTO:+0100
TZNAME:BST
DTSTART:20250330T010000
END:DAYLIGHT
BEGIN:STANDARD
TZOFFSETFROM:+0100
TZOFFSETTO:+0000
TZNAME:GMT
DTSTART:20251026T010000
END:STANDARD
END:VTIMEZONE
BEGIN:VEVENT
DTSTART;TZID=Europe/London:20250307T080000
DTEND;TZID=Europe/London:20250307T160000
DTSTAMP:20260423T160912
CREATED:20241210T162939Z
LAST-MODIFIED:20241210T162947Z
UID:5361-1741334400-1741363200@westlondonchambers.org.uk
SUMMARY:West London Festival of Business 2025
DESCRIPTION:We are back with the West London Festival of Business 2025!The West London Festival of Business is your opportunity to shine\, giving you the chance to showcase and promote your business to our diverse business community. \n\n\n\nDate: 7th March 2025Time: Breakfast – 8:00am – 9:15am\, Exhibition: 9:30am – 4:00pmVenue: Holiday Inn\, Brentford Lock\, Commerce Road\, Brentford\, TW8 8GAEarly-bird tickets are available now until 1st January 2025\, please click here to secure your spot. \n\n\n\n\n\n\n\nWe will be hosting a VIP business breakfast before the start of the Festival\, where you can network with stakeholders and partners. Keynote speakers to be announced. \n\n\n\n\nBook Here\n\n\n\n\nEntry is free for visitors\, you just need to register. \n\n\n\n\nRegister here\n\n\n\n\n\n\n\n\nEarly-bird tickets are available now until 1st January 2025\, please click here to secure your spot.
URL:https://westlondonchambers.org.uk/event/west-london-festival-of-business-2025/
LOCATION:Holiday Inn London – Brentford Lock\, Commerce Rd\, London\, England\, TW8 8GA
CATEGORIES:Flagship Event
END:VEVENT
BEGIN:VEVENT
DTSTART;TZID=Europe/London:20250312T183000
DTEND;TZID=Europe/London:20250312T203000
DTSTAMP:20260423T160912
CREATED:20250117T132528Z
LAST-MODIFIED:20250227T170752Z
UID:5397-1741804200-1741811400@westlondonchambers.org.uk
SUMMARY:International Women’s Day
DESCRIPTION:Book Here
URL:https://westlondonchambers.org.uk/event/international-womens-day-3/
END:VEVENT
BEGIN:VEVENT
DTSTART;TZID=Europe/London:20250314T083000
DTEND;TZID=Europe/London:20250314T103000
DTSTAMP:20260423T160912
CREATED:20250117T132627Z
LAST-MODIFIED:20250224T114217Z
UID:5399-1741941000-1741948200@westlondonchambers.org.uk
SUMMARY:Acton BID Business Breakfast
DESCRIPTION:Book here
URL:https://westlondonchambers.org.uk/event/acton-bid-business-breakfast-18/
CATEGORIES:Business Breakfast
END:VEVENT
BEGIN:VEVENT
DTSTART;TZID=Europe/London:20250319T090000
DTEND;TZID=Europe/London:20250319T163000
DTSTAMP:20260423T160912
CREATED:20250117T133010Z
LAST-MODIFIED:20250117T133020Z
UID:5401-1742374800-1742401800@westlondonchambers.org.uk
SUMMARY:Slovenia Trade Reception
DESCRIPTION:More information and times TBC
URL:https://westlondonchambers.org.uk/event/slovenia-trade-reception/
CATEGORIES:International Trade
END:VEVENT
BEGIN:VEVENT
DTSTART;TZID=Europe/London:20250325T093000
DTEND;TZID=Europe/London:20250325T183000
DTSTAMP:20260423T160912
CREATED:20250318T164511Z
LAST-MODIFIED:20250318T164514Z
UID:5451-1742895000-1742927400@westlondonchambers.org.uk
SUMMARY:Hounslow BID Workshops
DESCRIPTION:Book Here
URL:https://westlondonchambers.org.uk/event/hounslow-bid-workshops/
END:VEVENT
BEGIN:VEVENT
DTSTART;TZID=Europe/London:20250327T083000
DTEND;TZID=Europe/London:20250327T103000
DTSTAMP:20260423T160912
CREATED:20250318T164647Z
LAST-MODIFIED:20250318T164652Z
UID:5454-1743064200-1743071400@westlondonchambers.org.uk
SUMMARY:Women in Business Breakfast
DESCRIPTION:Book here
URL:https://westlondonchambers.org.uk/event/women-in-business-breakfast-9/
LOCATION:David Lloyd Gym\, East Acton Lane\, London\, W3 7HB
CATEGORIES:Business Breakfast
END:VEVENT
END:VCALENDAR