BEGIN:VCALENDAR
VERSION:2.0
PRODID:-//West London Chambers - ECPv5.8.1//NONSGML v1.0//EN
CALSCALE:GREGORIAN
METHOD:PUBLISH
X-WR-CALNAME:West London Chambers
X-ORIGINAL-URL:https://westlondonchambers.org.uk
X-WR-CALDESC:Events for West London Chambers
BEGIN:VTIMEZONE
TZID:Europe/London
BEGIN:DAYLIGHT
TZOFFSETFROM:+0000
TZOFFSETTO:+0100
TZNAME:BST
DTSTART:20250330T010000
END:DAYLIGHT
BEGIN:STANDARD
TZOFFSETFROM:+0100
TZOFFSETTO:+0000
TZNAME:GMT
DTSTART:20251026T010000
END:STANDARD
END:VTIMEZONE
BEGIN:VEVENT
DTSTART;TZID=Europe/London:20250508T133000
DTEND;TZID=Europe/London:20250508T230000
DTSTAMP:20260423T191826
CREATED:20250318T165801Z
LAST-MODIFIED:20250318T171127Z
UID:5465-1746711000-1746745200@westlondonchambers.org.uk
SUMMARY:West London Regeneration Conference 2025
DESCRIPTION:Book Here
URL:https://westlondonchambers.org.uk/event/regeneration-conference-2025/
CATEGORIES:Flagship Event
END:VEVENT
BEGIN:VEVENT
DTSTART;TZID=Europe/London:20250513T100000
DTEND;TZID=Europe/London:20250513T110000
DTSTAMP:20260423T191826
CREATED:20250416T144530Z
LAST-MODIFIED:20250416T144536Z
UID:5482-1747130400-1747134000@westlondonchambers.org.uk
SUMMARY:AI Webinar
DESCRIPTION:Book Here
URL:https://westlondonchambers.org.uk/event/ai-webinar-2/
CATEGORIES:Webinar
END:VEVENT
BEGIN:VEVENT
DTSTART;TZID=Europe/London:20250519T140000
DTEND;TZID=Europe/London:20250519T170000
DTSTAMP:20260423T191826
CREATED:20250416T145211Z
LAST-MODIFIED:20250416T145214Z
UID:5487-1747663200-1747674000@westlondonchambers.org.uk
SUMMARY:Trade beyond borders: uk-GCC
DESCRIPTION:Book Here
URL:https://westlondonchambers.org.uk/event/trade-beyond-borders-uk-gcc/
LOCATION:Spring Grove House\, West Thames College\, London Road\, Isleworth\, TW7 4HS
CATEGORIES:International Trade
END:VEVENT
BEGIN:VEVENT
DTSTART;TZID=Europe/London:20250520T100000
DTEND;TZID=Europe/London:20250520T120000
DTSTAMP:20260423T191826
CREATED:20250416T145310Z
LAST-MODIFIED:20250416T145314Z
UID:5490-1747735200-1747742400@westlondonchambers.org.uk
SUMMARY:Chinese Delegation from Yongnian Province
DESCRIPTION:More details TBC
URL:https://westlondonchambers.org.uk/event/chinese-delegation-from-yongnian-province/
LOCATION:Spring Grove House\, West Thames College\, London Road\, Isleworth\, TW7 4HS
CATEGORIES:International Trade
END:VEVENT
BEGIN:VEVENT
DTSTART;TZID=Europe/London:20250528T183000
DTEND;TZID=Europe/London:20250528T203000
DTSTAMP:20260423T191826
CREATED:20250522T102928Z
LAST-MODIFIED:20250522T102932Z
UID:5499-1748457000-1748464200@westlondonchambers.org.uk
SUMMARY:Bridging Horizons
DESCRIPTION:Book Here
URL:https://westlondonchambers.org.uk/event/bridging-horizons/
END:VEVENT
END:VCALENDAR