BEGIN:VCALENDAR
VERSION:2.0
PRODID:-//West London Chambers - ECPv5.8.1//NONSGML v1.0//EN
CALSCALE:GREGORIAN
METHOD:PUBLISH
X-WR-CALNAME:West London Chambers
X-ORIGINAL-URL:https://westlondonchambers.org.uk
X-WR-CALDESC:Events for West London Chambers
BEGIN:VTIMEZONE
TZID:Europe/London
BEGIN:DAYLIGHT
TZOFFSETFROM:+0000
TZOFFSETTO:+0100
TZNAME:BST
DTSTART:20250330T010000
END:DAYLIGHT
BEGIN:STANDARD
TZOFFSETFROM:+0100
TZOFFSETTO:+0000
TZNAME:GMT
DTSTART:20251026T010000
END:STANDARD
END:VTIMEZONE
BEGIN:VEVENT
DTSTART;TZID=Europe/London:20250606T083000
DTEND;TZID=Europe/London:20250606T103000
DTSTAMP:20260423T223338
CREATED:20250522T103158Z
LAST-MODIFIED:20250522T103204Z
UID:5503-1749198600-1749205800@westlondonchambers.org.uk
SUMMARY:Acton BID Business Breakfast
DESCRIPTION:Book here
URL:https://westlondonchambers.org.uk/event/acton-bid-business-breakfast-20/
CATEGORIES:Business Breakfast
END:VEVENT
BEGIN:VEVENT
DTSTART;TZID=Europe/London:20250612T120000
DTEND;TZID=Europe/London:20250612T220000
DTSTAMP:20260423T223338
CREATED:20250224T115702Z
LAST-MODIFIED:20250620T135919Z
UID:5434-1749729600-1749765600@westlondonchambers.org.uk
SUMMARY:Annual Charity Golf Afternoon and Dinner 2025
DESCRIPTION:Book Here
URL:https://westlondonchambers.org.uk/event/annual-charity-golf-afternoon-and-dinner-2025/
CATEGORIES:Flagship Event
END:VEVENT
BEGIN:VEVENT
DTSTART;TZID=Europe/London:20250618T100000
DTEND;TZID=Europe/London:20250618T110000
DTSTAMP:20260423T223338
CREATED:20250522T103601Z
LAST-MODIFIED:20250522T103605Z
UID:5507-1750240800-1750244400@westlondonchambers.org.uk
SUMMARY:Sustainability Webinar
DESCRIPTION:Book Here
URL:https://westlondonchambers.org.uk/event/sustainability-webinar-2/
CATEGORIES:Webinar
END:VEVENT
BEGIN:VEVENT
DTSTART;TZID=Europe/London:20250624T154500
DTEND;TZID=Europe/London:20250624T183000
DTSTAMP:20260423T223338
CREATED:20250620T091746Z
LAST-MODIFIED:20250620T091751Z
UID:5525-1750779900-1750789800@westlondonchambers.org.uk
SUMMARY:Rocks Lane Padel Social
DESCRIPTION:Book Here
URL:https://westlondonchambers.org.uk/event/rocks-lane-padel-social/
LOCATION:Rocks Lane Padel\, 60 Chiswick Common Road\, Chiswick\, W4 1RZ\, United Kingdom
END:VEVENT
BEGIN:VEVENT
DTSTART;TZID=Europe/London:20250625T083000
DTEND;TZID=Europe/London:20250625T103000
DTSTAMP:20260423T223338
CREATED:20250522T105018Z
LAST-MODIFIED:20250620T092158Z
UID:5514-1750840200-1750847400@westlondonchambers.org.uk
SUMMARY:Chiswick Business Breakfast
DESCRIPTION:Book Here
URL:https://westlondonchambers.org.uk/event/chiswick-business-breakfast-5/
CATEGORIES:Business Breakfast
END:VEVENT
END:VCALENDAR