BEGIN:VCALENDAR
VERSION:2.0
PRODID:-//West London Chambers - ECPv5.8.1//NONSGML v1.0//EN
CALSCALE:GREGORIAN
METHOD:PUBLISH
X-WR-CALNAME:West London Chambers
X-ORIGINAL-URL:https://westlondonchambers.org.uk
X-WR-CALDESC:Events for West London Chambers
BEGIN:VTIMEZONE
TZID:Europe/London
BEGIN:DAYLIGHT
TZOFFSETFROM:+0000
TZOFFSETTO:+0100
TZNAME:BST
DTSTART:20250330T010000
END:DAYLIGHT
BEGIN:STANDARD
TZOFFSETFROM:+0100
TZOFFSETTO:+0000
TZNAME:GMT
DTSTART:20251026T010000
END:STANDARD
END:VTIMEZONE
BEGIN:VEVENT
DTSTART;TZID=Europe/London:20250702T183000
DTEND;TZID=Europe/London:20250702T213000
DTSTAMP:20260423T235749
CREATED:20250522T105145Z
LAST-MODIFIED:20250620T092357Z
UID:5516-1751481000-1751491800@westlondonchambers.org.uk
SUMMARY:Summer Networking
DESCRIPTION:Book Here
URL:https://westlondonchambers.org.uk/event/summer-evening-drinky-poos/
END:VEVENT
BEGIN:VEVENT
DTSTART;TZID=Europe/London:20250704T083000
DTEND;TZID=Europe/London:20250704T103000
DTSTAMP:20260423T235749
CREATED:20250620T092501Z
LAST-MODIFIED:20250620T092509Z
UID:5536-1751617800-1751625000@westlondonchambers.org.uk
SUMMARY:Acton BID Business Breakfast
DESCRIPTION:More details TBC
URL:https://westlondonchambers.org.uk/event/acton-bid-business-breakfast-21/
CATEGORIES:Business Breakfast
END:VEVENT
BEGIN:VEVENT
DTSTART;TZID=Europe/London:20250709T083000
DTEND;TZID=Europe/London:20250709T103000
DTSTAMP:20260423T235749
CREATED:20250522T110031Z
LAST-MODIFIED:20250620T093007Z
UID:5518-1752049800-1752057000@westlondonchambers.org.uk
SUMMARY:Women in Business Breakfast
DESCRIPTION:Book Here
URL:https://westlondonchambers.org.uk/event/women-in-business-breakfast-10/
CATEGORIES:Business Breakfast
END:VEVENT
BEGIN:VEVENT
DTSTART;TZID=Europe/London:20250723T130000
DTEND;TZID=Europe/London:20250723T140000
DTSTAMP:20260423T235749
CREATED:20250722T110024Z
LAST-MODIFIED:20250722T110027Z
UID:5571-1753275600-1753279200@westlondonchambers.org.uk
SUMMARY:Atlanta\, Georgia Outbound Trade Mission Briefing
DESCRIPTION:Register here
URL:https://westlondonchambers.org.uk/event/atlanta-georgia-outbound-trade-mission-briefing/
CATEGORIES:International Trade
END:VEVENT
END:VCALENDAR