BEGIN:VCALENDAR
VERSION:2.0
PRODID:-//West London Chambers - ECPv5.8.1//NONSGML v1.0//EN
CALSCALE:GREGORIAN
METHOD:PUBLISH
X-WR-CALNAME:West London Chambers
X-ORIGINAL-URL:https://westlondonchambers.org.uk
X-WR-CALDESC:Events for West London Chambers
BEGIN:VTIMEZONE
TZID:Europe/London
BEGIN:DAYLIGHT
TZOFFSETFROM:+0000
TZOFFSETTO:+0100
TZNAME:BST
DTSTART:20250330T010000
END:DAYLIGHT
BEGIN:STANDARD
TZOFFSETFROM:+0100
TZOFFSETTO:+0000
TZNAME:GMT
DTSTART:20251026T010000
END:STANDARD
END:VTIMEZONE
BEGIN:VEVENT
DTSTART;TZID=Europe/London:20251104T183000
DTEND;TZID=Europe/London:20251104T210000
DTSTAMP:20260423T191824
CREATED:20250909T133153Z
LAST-MODIFIED:20250909T133159Z
UID:5640-1762281000-1762290000@westlondonchambers.org.uk
SUMMARY:Sustainability Seminar
DESCRIPTION:Book Here
URL:https://westlondonchambers.org.uk/event/sustainability-seminar/
END:VEVENT
BEGIN:VEVENT
DTSTART;TZID=Europe/London:20251114T123000
DTEND;TZID=Europe/London:20251114T160000
DTSTAMP:20260423T191824
CREATED:20251008T133413Z
LAST-MODIFIED:20251106T101611Z
UID:5693-1763123400-1763136000@westlondonchambers.org.uk
SUMMARY:Libya–UK Trade & Investment Reception
DESCRIPTION:Book Here
URL:https://westlondonchambers.org.uk/event/libyauk-trade-investment-reception/
CATEGORIES:International Trade
END:VEVENT
BEGIN:VEVENT
DTSTART;TZID=Europe/London:20251121T183000
DTEND;TZID=Europe/London:20251121T233000
DTSTAMP:20260423T191824
CREATED:20250812T110410Z
LAST-MODIFIED:20250812T110443Z
UID:5614-1763749800-1763767800@westlondonchambers.org.uk
SUMMARY:Business Awards 2025
DESCRIPTION:The Business Awards are now here\, so if you are interested\, please email: \n\n\n\nGerryHolden@westlondonchambers.org.uk \n\n\n\n\nBook Here\n\n\n\n\nThe Business Awards Black Tie Gala Dinner includes a three course meal and a pre dinner drinks reception. At this event\, we will be announcing all of our fantastic winners\, so this could be your ‘Oscar’ moment! This year marks ten years of the Business Awards; twelve years of celebrating your wonderful businesses in the community. \n\n\n\nFor anyone wanting to book a full table (10 places) please send an email to: \n\n\n\nGerryHolden@westlondonchambers.org.uk \n\n\n\n\nBook Here
URL:https://westlondonchambers.org.uk/event/business-awards-2025/
LOCATION:Novotel London West\, 1 Shortlands\, W6 8DR
CATEGORIES:Flagship Event
END:VEVENT
BEGIN:VEVENT
DTSTART;TZID=Europe/London:20251126T130000
DTEND;TZID=Europe/London:20251126T160000
DTSTAMP:20260423T191824
CREATED:20251008T133518Z
LAST-MODIFIED:20251027T124210Z
UID:5695-1764162000-1764172800@westlondonchambers.org.uk
SUMMARY:Algeria Reception
DESCRIPTION:Book Here
URL:https://westlondonchambers.org.uk/event/algerian-agriculture-seminar-with-one-to-ones/
CATEGORIES:International Trade
END:VEVENT
END:VCALENDAR