BEGIN:VCALENDAR
VERSION:2.0
PRODID:-//West London Chambers - ECPv5.8.1//NONSGML v1.0//EN
CALSCALE:GREGORIAN
METHOD:PUBLISH
X-WR-CALNAME:West London Chambers
X-ORIGINAL-URL:https://westlondonchambers.org.uk
X-WR-CALDESC:Events for West London Chambers
BEGIN:VTIMEZONE
TZID:Europe/London
BEGIN:DAYLIGHT
TZOFFSETFROM:+0000
TZOFFSETTO:+0100
TZNAME:BST
DTSTART:20260329T010000
END:DAYLIGHT
BEGIN:STANDARD
TZOFFSETFROM:+0100
TZOFFSETTO:+0000
TZNAME:GMT
DTSTART:20261025T010000
END:STANDARD
END:VTIMEZONE
BEGIN:VEVENT
DTSTART;TZID=Europe/London:20260120T100000
DTEND;TZID=Europe/London:20260120T110000
DTSTAMP:20260423T160145
CREATED:20251211T165914Z
LAST-MODIFIED:20251211T165922Z
UID:6100-1768903200-1768906800@westlondonchambers.org.uk
SUMMARY:Health in the Workplace Webinar
DESCRIPTION:Book Here
URL:https://westlondonchambers.org.uk/event/health-in-the-workplace-webinar/
CATEGORIES:Health and Wellbeing,Webinar
END:VEVENT
BEGIN:VEVENT
DTSTART;TZID=Europe/London:20260121T183000
DTEND;TZID=Europe/London:20260121T203000
DTSTAMP:20260423T160145
CREATED:20251212T171149Z
LAST-MODIFIED:20251212T171157Z
UID:6142-1769020200-1769027400@westlondonchambers.org.uk
SUMMARY:Hounslow Business First
DESCRIPTION:Book Here
URL:https://westlondonchambers.org.uk/event/hounslow-business-first/
END:VEVENT
BEGIN:VEVENT
DTSTART;TZID=Europe/London:20260123T083000
DTEND;TZID=Europe/London:20260123T103000
DTSTAMP:20260423T160145
CREATED:20251212T130511Z
LAST-MODIFIED:20260119T095142Z
UID:6124-1769157000-1769164200@westlondonchambers.org.uk
SUMMARY:Acton BID Business Breakfast
DESCRIPTION:Book Here
URL:https://westlondonchambers.org.uk/event/acton-bid-business-breakfast-23/
CATEGORIES:Business Breakfast
END:VEVENT
BEGIN:VEVENT
DTSTART;TZID=Europe/London:20260129T083000
DTEND;TZID=Europe/London:20260129T103000
DTSTAMP:20260423T160145
CREATED:20251211T170205Z
LAST-MODIFIED:20260119T095446Z
UID:6103-1769675400-1769682600@westlondonchambers.org.uk
SUMMARY:Chiswick Business Breakfast
DESCRIPTION:More details TBC \n\n\n\n\nBook here
URL:https://westlondonchambers.org.uk/event/chiswick-business-breakfast-6/
CATEGORIES:Business Breakfast
END:VEVENT
END:VCALENDAR