BEGIN:VCALENDAR
VERSION:2.0
PRODID:-//West London Chambers - ECPv5.8.1//NONSGML v1.0//EN
CALSCALE:GREGORIAN
METHOD:PUBLISH
X-WR-CALNAME:West London Chambers
X-ORIGINAL-URL:https://westlondonchambers.org.uk
X-WR-CALDESC:Events for West London Chambers
BEGIN:VTIMEZONE
TZID:Europe/London
BEGIN:DAYLIGHT
TZOFFSETFROM:+0000
TZOFFSETTO:+0100
TZNAME:BST
DTSTART:20260329T010000
END:DAYLIGHT
BEGIN:STANDARD
TZOFFSETFROM:+0100
TZOFFSETTO:+0000
TZNAME:GMT
DTSTART:20261025T010000
END:STANDARD
END:VTIMEZONE
BEGIN:VEVENT
DTSTART;TZID=Europe/London:20260202T183000
DTEND;TZID=Europe/London:20260202T203000
DTSTAMP:20260423T143206
CREATED:20260202T141807Z
LAST-MODIFIED:20260202T142348Z
UID:6166-1770057000-1770064200@westlondonchambers.org.uk
SUMMARY:Hounslow Business First
DESCRIPTION:Book Here
URL:https://westlondonchambers.org.uk/event/hounslow-business-first-3/
CATEGORIES:International Trade
END:VEVENT
BEGIN:VEVENT
DTSTART;TZID=Europe/London:20260211T180000
DTEND;TZID=Europe/London:20260211T203000
DTSTAMP:20260423T143206
CREATED:20251211T170314Z
LAST-MODIFIED:20260119T095647Z
UID:6105-1770832800-1770841800@westlondonchambers.org.uk
SUMMARY:Trading in the Creative/Design Sector
DESCRIPTION:Book here
URL:https://westlondonchambers.org.uk/event/sandersons-evening-networking/
END:VEVENT
BEGIN:VEVENT
DTSTART;TZID=Europe/London:20260217T093000
DTEND;TZID=Europe/London:20260217T113000
DTSTAMP:20260423T143206
CREATED:20251212T171413Z
LAST-MODIFIED:20260119T100039Z
UID:6145-1771320600-1771327800@westlondonchambers.org.uk
SUMMARY:Hounslow Business First
DESCRIPTION:Book Here
URL:https://westlondonchambers.org.uk/event/hounslow-business-first-2/
END:VEVENT
BEGIN:VEVENT
DTSTART;TZID=Europe/London:20260226T083000
DTEND;TZID=Europe/London:20260226T103000
DTSTAMP:20260423T143206
CREATED:20260224T105745Z
LAST-MODIFIED:20260224T105750Z
UID:6177-1772094600-1772101800@westlondonchambers.org.uk
SUMMARY:Business Breakfast @ WEST Youth Zone
DESCRIPTION:Book here
URL:https://westlondonchambers.org.uk/event/business-breakfast-west-youth-zone/
CATEGORIES:Business Breakfast
END:VEVENT
END:VCALENDAR